BEGIN:VCALENDAR
VERSION:2.0
PRODID:-//ChamberMaster//Event Calendar 2.0//EN
METHOD:PUBLISH
X-PUBLISHED-TTL:P3D
REFRESH-INTERVAL:P3D
CALSCALE:GREGORIAN
BEGIN:VEVENT
DTSTART:20210908T160000Z
DTEND:20210908T170000Z
X-MICROSOFT-CDO-ALLDAYEVENT:FALSE
SUMMARY:1 Million Cups\, Santa Barbara Chapter Weekly Meeting
DESCRIPTION:A weekly conversation focused on the adventures of entrepreneurship!
X-ALT-DESC;FMTTYPE=text/html:A weekly conversation focused on the adventures of entrepreneurship!
LOCATION:Zoom meeting details available to registrants at www.1MillionCups.com/SantaBarbara. Click the button to 'Follow' the chapter to receive local communications.
UID:e.3636.314
SEQUENCE:3
DTSTAMP:20260422T140402Z
URL:https://business.sbscchamber.com/events/details/1-million-cups-santa-barbara-chapter-weekly-meeting-09-08-2021-314
END:VEVENT

END:VCALENDAR
