BEGIN:VCALENDAR
VERSION:2.0
PRODID:-//ChamberMaster//Event Calendar 2.0//EN
METHOD:PUBLISH
X-PUBLISHED-TTL:P3D
REFRESH-INTERVAL:P3D
CALSCALE:GREGORIAN
BEGIN:VEVENT
DTSTART:20240906T000000Z
DTEND:20240906T030000Z
X-MICROSOFT-CDO-ALLDAYEVENT:FALSE
SUMMARY:1st Thursday
DESCRIPTION:1st Thursday | Thursday\, September 5 | 5-8:00 PM Santa Barbara Historical Museum Enjoy access after hours with wine and music while you explore our galleries\, including our latest exhibition\, Project Fiesta! Celebrating a Centennial of Old Spanish Days Fiesta. Join Latin Jazz band Mezcal Martini for music and dancing in our courtyard from 6-7:30 pm. Free. No RSVP required. https://www.sbhistorical.org/events/
X-ALT-DESC;FMTTYPE=text/html:1st Thursday | Thursday\, September 5 | 5-8:00 PM Santa Barbara Historical Museum Enjoy access after hours with wine and music while you explore our galleries\, including our latest exhibition\, Project Fiesta! Celebrating a Centennial of Old Spanish Days Fiesta. Join Latin Jazz band Mezcal Martini for music and dancing in our courtyard from 6-7:30 pm. Free. No RSVP required. https://www.sbhistorical.org/events/
LOCATION:
UID:e.3636.2086
SEQUENCE:3
DTSTAMP:20260421T185059Z
URL:https://business.sbscchamber.com/events/details/1st-thursday-2086
END:VEVENT

END:VCALENDAR
