BEGIN:VCALENDAR
VERSION:2.0
PRODID:-//ChamberMaster//Event Calendar 2.0//EN
METHOD:PUBLISH
X-PUBLISHED-TTL:P3D
REFRESH-INTERVAL:P3D
CALSCALE:GREGORIAN
BEGIN:VEVENT
DTSTART:20251003T000000Z
DTEND:20251003T030000Z
X-MICROSOFT-CDO-ALLDAYEVENT:FALSE
SUMMARY:1st Thursday Art Walk at Art & Soul
DESCRIPTION:Art & Soul Gallery presents Raw and Revealed\, a new exhibition showcasing the porcelain sculptures of Joan Rosenberg-Dent and the abstract paintings of Sarita Reynolds. Experience an inspiring dialogue between form\, texture\, fragility\, and strength. Meet the artists at the opening reception on Thursday\, October 2nd\, from 5 8 pm. These works will be on view through November 2nd\, 2025.
X-ALT-DESC;FMTTYPE=text/html:Art &amp\; Soul Gallery presents Raw and Revealed\, a new exhibition showcasing the porcelain sculptures of Joan Rosenberg-Dent and the abstract paintings of Sarita Reynolds. Experience an inspiring dialogue between form\, texture\, fragility\, and strength. Meet the artists at the opening reception on Thursday\, October 2nd\, from 5&ndash\;8 pm. These works will be on view through November 2nd\, 2025.&nbsp\;
LOCATION:Art & Soul 1323 State Street Santa Barbara CA 93101
UID:e.3636.3167
SEQUENCE:3
DTSTAMP:20260419T162915Z
URL:https://business.sbscchamber.com/events/details/1st-thursday-art-walk-at-art-soul-3167
END:VEVENT

END:VCALENDAR
