BEGIN:VCALENDAR
VERSION:2.0
PRODID:-//ChamberMaster//Event Calendar 2.0//EN
METHOD:PUBLISH
X-PUBLISHED-TTL:P3D
REFRESH-INTERVAL:P3D
CALSCALE:GREGORIAN
BEGIN:VEVENT
DTSTART:20260306T010000Z
DTEND:20260306T040000Z
X-MICROSOFT-CDO-ALLDAYEVENT:FALSE
SUMMARY:1st Thursday Art Walk - Jane Chapman: Echoes of Earth and Sky
DESCRIPTION:Jane Chapman translates the luminous terrain of Santa Barbara into layered\, abstract compositions that reflect our interconnected relationships   to land\, to one another\, and to ourselves. Through oil\, mixed media\, and collage\, she builds textured landscapes that echo the Channel Island horizon\, coastal light\, and the rising forms of the Santa Ynez Mountains. Her work invites contemplation\, offering viewers a space where nature and the human spirit quietly converge. Jane Chapman is a Santa Barbara native and graduate of UCLA. Her practice is rooted in compassion\, curiosity\, and a lifelong devotion to connection   both within and beyond the canvas.
X-ALT-DESC;FMTTYPE=text/html:Jane Chapman translates the luminous terrain of Santa Barbara into layered\, abstract compositions that reflect our interconnected relationships &mdash\; to land\, to one another\, and to ourselves. Through oil\, mixed media\, and collage\, she builds textured landscapes that echo the Channel Island horizon\, coastal light\, and the rising forms of the Santa Ynez Mountains. Her work invites contemplation\, offering viewers a space where nature and the human spirit quietly converge. Jane Chapman is a Santa Barbara native and graduate of UCLA. Her practice is rooted in compassion\, curiosity\, and a lifelong devotion to connection &mdash\; both within and beyond the canvas.
LOCATION:Art & Soul 1323 State st. Santa Barbara\, CA
UID:e.3636.3446
SEQUENCE:3
DTSTAMP:20260421T162421Z
URL:https://business.sbscchamber.com/events/details/1st-thursday-art-walk-jane-chapman-echoes-of-earth-and-sky-3446
END:VEVENT

END:VCALENDAR
