BEGIN:VCALENDAR
VERSION:2.0
PRODID:-//ChamberMaster//Event Calendar 2.0//EN
METHOD:PUBLISH
X-PUBLISHED-TTL:P3D
REFRESH-INTERVAL:P3D
CALSCALE:GREGORIAN
BEGIN:VEVENT
DTSTART:20251107T010000Z
DTEND:20251107T040000Z
X-MICROSOFT-CDO-ALLDAYEVENT:FALSE
SUMMARY:1st Thursday at Art & Soul
DESCRIPTION:Celebrate Emerging\, the debut solo exhibition of Bella DiBernardo\, a rising artist and co-founder of Art & Soul. Experience Bella's bold\, intuitive exploration of personal narrative in this intimate collection of work. Join us for an evening of art\, community\, and connection during the 1st Thursday Art Walk on November 6th from 5 8 PM with wines from Fox Winery and light bites\, while engaging with Bella's inspiring journey as both curator and creator. Free and open to the public.
X-ALT-DESC;FMTTYPE=text/html:Celebrate Emerging\, the debut solo exhibition of Bella DiBernardo\, a rising artist and co-founder of Art &amp\; Soul. Experience Bella&rsquo\;s bold\, intuitive exploration of personal narrative in this intimate collection of work. Join us for an evening of art\, community\, and connection during the 1st Thursday Art Walk on November 6th from 5&ndash\;8 PM with wines from Fox Winery and light bites\, while engaging with Bella&rsquo\;s inspiring journey as both curator and creator. Free and open to the public.
LOCATION:Art & Soul 1323 State Street Santa Barbara CA
UID:e.3636.3215
SEQUENCE:3
DTSTAMP:20260421T173454Z
URL:https://business.sbscchamber.com/events/details/1st-thursday-at-art-soul-3215
END:VEVENT

END:VCALENDAR
