BEGIN:VCALENDAR
VERSION:2.0
PRODID:-//ChamberMaster//Event Calendar 2.0//EN
METHOD:PUBLISH
X-PUBLISHED-TTL:P3D
REFRESH-INTERVAL:P3D
CALSCALE:GREGORIAN
BEGIN:VEVENT
DTSTART:20260127T230000Z
DTEND:20260128T010000Z
X-MICROSOFT-CDO-ALLDAYEVENT:FALSE
SUMMARY:Annual Membership Meeting 2026 - South Coast Leadership Forum
DESCRIPTION:Join us for the Chamber's Annual Membership Meeting 2026 South Coast Leadership Forum on January 27 at the Hotel Californian from 3 5 PM. Come together with fellow members as we install the Chamber's Board of Directors\, share key initiatives for the year ahead\, and highlight the collective impact of our business community. This annual forum is an opportunity to connect with regional leaders\, hear updates on our advocacy and programs\, and celebrate you\, our members\, who make this work possible.
X-ALT-DESC;FMTTYPE=text/html:Join us for the Chamber&rsquo\;s Annual Membership Meeting 2026 South Coast Leadership Forum on January 27 at the Hotel Californian from 3&ndash\;5 PM. Come together with fellow members as we install the Chamber&rsquo\;s Board of Directors\, share key initiatives for the year ahead\, and highlight the collective impact of our business community. This annual forum is an opportunity to connect with regional leaders\, hear updates on our advocacy and programs\, and celebrate you\, our members\, who make this work possible.
LOCATION:
UID:e.3636.3274
SEQUENCE:3
DTSTAMP:20260421T191241Z
URL:https://business.sbscchamber.com/events/details/annual-membership-meeting-2026-south-coast-leadership-forum-3274
END:VEVENT

END:VCALENDAR
