BEGIN:VCALENDAR
VERSION:2.0
PRODID:-//ChamberMaster//Event Calendar 2.0//EN
METHOD:PUBLISH
X-PUBLISHED-TTL:P3D
REFRESH-INTERVAL:P3D
CALSCALE:GREGORIAN
BEGIN:VEVENT
DTSTART:20251211T170000Z
DTEND:20251211T183000Z
X-MICROSOFT-CDO-ALLDAYEVENT:FALSE
SUMMARY:B2B Networking Breakfast - December 2025
DESCRIPTION:Join us for our monthly networking breakfast\, where a vibrant community of over 100 individuals convenes! Delight in delicious breakfast offerings by Rincon Catering\, delve into insights from our monthly sponsor\, and partake in valuable networking opportunities. You will have the opportunity to give a 20-second commercial to highlight your business but keep it concise to avoid the interruption of our designated bell. Every guest receives a hot-sheet\, so be sure to register by the deadlines to ensure that you're on the list\, which is also distributed via email to all attendees. Don't miss this exclusive\, consistently sold-out event each month! Reserve your spot by registering in advance.
X-ALT-DESC;FMTTYPE=text/html:<p style="box-sizing: border-box\; margin: 0px 0px 0.5em\; padding: 0px\; border: 0px\; outline: 0px\; font-variant-numeric: inherit\; font-variant-east-asian: inherit\; font-stretch: inherit\; font-size: 16px\; line-height: inherit\; vertical-align: baseline\; font-family: Lato\, sans-serif\; color: rgb(92\, 87\, 82)\; letter-spacing: 0.32px\;"><span style="color: rgb(117\, 117\, 117)\; font-family: Helvetica\, Verdana\, Arial\, sans-serif\; font-size: 14px\;">Join us for our monthly networking breakfast\, where a vibrant community of over 100 individuals convenes! Delight in delicious breakfast offerings by Rincon Catering\, delve into insights from our monthly sponsor\, and partake in valuable networking opportunities. You will have the opportunity to give a 20-second commercial to highlight your business&mdash\;but keep it concise to avoid the interruption of our designated bell. Every guest receives a hot-sheet\, so be sure to register by the deadlines to ensure that you&#39\;re on the list\, which is also distributed via email to all attendees. Don&#39\;t miss this exclusive\, consistently sold-out event each month! Reserve your spot by registering in advance.</span></p>\n
LOCATION:Santa Barbara Zoo @Discovery Pavilion 500 Ni os Drive Santa Barbara\, CA 93103
UID:e.3636.2182
SEQUENCE:3
DTSTAMP:20260421T190426Z
URL:https://business.sbscchamber.com/events/details/b2b-networking-breakfast-december-2025-2182
END:VEVENT

END:VCALENDAR
