BEGIN:VCALENDAR
VERSION:2.0
PRODID:-//ChamberMaster//Event Calendar 2.0//EN
METHOD:PUBLISH
X-PUBLISHED-TTL:P3D
REFRESH-INTERVAL:P3D
CALSCALE:GREGORIAN
BEGIN:VEVENT
DTSTART:20210607T180000Z
DTEND:20210607T193000Z
X-MICROSOFT-CDO-ALLDAYEVENT:FALSE
SUMMARY:Chamber To Host Labor Shortage Roundtable
DESCRIPTION:Join us this upcoming Monday\, June 7th at 11:00 AM to discuss experiences and challenges with the recent crisis in employment. \n\nOur keynote speaker\, Josh Williams\, will present some recent research on unemployment and recruitment data from our region.  \n\n \n\nWe will hear from industry leaders on how they are dealing with the labor shortage\, best practices and suggestions. \n\nWe will hold a roundtable discussion with people on the call - answer questions and facilitate dialog. Register here.
X-ALT-DESC;FMTTYPE=text/html:<span style="color:black\;"><span style="font-family:arial\,sans-serif\;"><span style="font-size:10.5pt\;">Join us this upcoming Monday\, June 7th at 11:00 AM to discuss experiences and challenges with the recent crisis in employment. </span></span></span><br />\n<span style="color:black\;"><span style="font-family:arial\,sans-serif\;"><span style="font-size:10.5pt\;">Our keynote speaker\, Josh Williams\, will present some recent research on unemployment and recruitment data from our region.&nbsp\;&nbsp\;</span></span></span><br />\n&nbsp\;<br />\n<span style="color:black\;"><span style="font-family:arial\,sans-serif\;"><span style="font-size:10.5pt\;">We will hear from industry leaders on how they are dealing with the labor shortage\, best practices and suggestions.&nbsp\;</span></span></span><br />\n<span style="color:black\;"><span style="font-family:arial\,sans-serif\;"><span style="font-size:10.5pt\;">We will hold a roundtable discussion with people on the call - answer questions and facilitate dialog. Register <a href="https://us02web.zoom.us/meeting/register/tZYqdeqprTsqHNfgliTRsBjwJsc5XREmTGSJ">here</a>.</span></span></span>
LOCATION:Via Zoom
UID:e.3636.106
SEQUENCE:3
DTSTAMP:20260422T181507Z
URL:https://business.sbscchamber.com/events/details/chamber-to-host-labor-shortage-roundtable-106
END:VEVENT

END:VCALENDAR
