BEGIN:VCALENDAR
VERSION:2.0
PRODID:-//ChamberMaster//Event Calendar 2.0//EN
METHOD:PUBLISH
X-PUBLISHED-TTL:P3D
REFRESH-INTERVAL:P3D
CALSCALE:GREGORIAN
BEGIN:VEVENT
DTSTART:20220323T210000Z
DTEND:20220323T223000Z
X-MICROSOFT-CDO-ALLDAYEVENT:FALSE
SUMMARY:Community Input Session: Let's Talk About Housing!
DESCRIPTION:Let's Talk About Housing!  Join us for a Community Input Session on workforce and affordable housing needs and solutions.  Your input is needed to help the Housing Trust Fund of Santa Barbara County recalibrate its programs and find a pathway forward to build the fund\, so we can provide more financial resources to tackle local housing needs.
X-ALT-DESC;FMTTYPE=text/html:Let&#39\;s Talk About Housing!&nbsp\; Join us for a Community Input Session on workforce and affordable housing needs and solutions.&nbsp\; Your input is needed to help the Housing Trust Fund of Santa Barbara County recalibrate its programs and find a pathway forward to build the fund\, so we can provide more financial resources to tackle local housing needs.
LOCATION:Zoom meeting
UID:e.3636.361
SEQUENCE:3
DTSTAMP:20260422T032657Z
URL:https://business.sbscchamber.com/events/details/community-input-session-let-s-talk-about-housing-361
END:VEVENT

END:VCALENDAR
