BEGIN:VCALENDAR
VERSION:2.0
PRODID:-//ChamberMaster//Event Calendar 2.0//EN
METHOD:PUBLISH
X-PUBLISHED-TTL:P3D
REFRESH-INTERVAL:P3D
CALSCALE:GREGORIAN
BEGIN:VEVENT
DTSTART;VALUE=DATE:20251106
DTEND;VALUE=DATE:20251201
TRANSP:TRANSPARENT
X-MICROSOFT-CDO-ALLDAYEVENT:TRUE
SUMMARY:Debut Solo Exhibition: Emerging
DESCRIPTION:Art & Soul is thrilled to announce Emerging\, the debut solo exhibition of our Artist-in-Residence\, Bella DiBernardo. A rising artist whose creative voice has been closely intertwined with the gallery since its earliest days\, this exhibition offers an intimate look at Bella's personal narrative\, explored through bold\, intuitive expression and a deeply reflective collection of work. As both curator and creator\, Bella presents a meaningful milestone in her artistic journey\, inviting visitors to experience the vision and spirit that have helped shape Art & Soul from the beginning. Emerging marks Bella's first exhibition - a powerful reflection of her growth not only as an artist\, but as a young woman navigating the world through creativity. This collection represents a beginning: an honest\, evolving dialogue between artist and canvas. The gallery is open Thursdays - Saturdays 12 6 PM\, Sundays 12 4 PM and by appointment.
X-ALT-DESC;FMTTYPE=text/html:Art &amp\; Soul is thrilled to announce Emerging\, the debut solo exhibition of our Artist-in-Residence\, Bella DiBernardo. A rising artist whose creative voice has been closely intertwined with the gallery since its earliest days\, this exhibition offers an intimate look at Bella&rsquo\;s personal narrative\, explored through bold\, intuitive expression and a deeply reflective collection of work. As both curator and creator\, Bella presents a meaningful milestone in her artistic journey\, inviting visitors to experience the vision and spirit that have helped shape Art &amp\; Soul from the beginning. Emerging marks Bella&rsquo\;s first exhibition - a powerful reflection of her growth not only as an artist\, but as a young woman navigating the world through creativity. This collection represents a beginning: an honest\, evolving dialogue between artist and canvas. The gallery is open Thursdays - Saturdays 12&ndash\;6 PM\, Sundays 12&ndash\;4 PM and by appointment.
LOCATION:Art & Soul 1323 State Street Santa Barbara CA
UID:e.3636.3216
SEQUENCE:3
DTSTAMP:20260421T173135Z
URL:https://business.sbscchamber.com/events/details/debut-solo-exhibition-emerging-3216
END:VEVENT

END:VCALENDAR
