BEGIN:VCALENDAR
VERSION:2.0
PRODID:-//ChamberMaster//Event Calendar 2.0//EN
METHOD:PUBLISH
X-PUBLISHED-TTL:P3D
REFRESH-INTERVAL:P3D
CALSCALE:GREGORIAN
BEGIN:VEVENT
DTSTART:20251207T033000Z
DTEND:20251207T080000Z
X-MICROSOFT-CDO-ALLDAYEVENT:FALSE
SUMMARY:Elemental Alchemy at the Arlington Theatre - A Dance Journey Through the Forces of Nature
DESCRIPTION:SANTA BARBARA\, CA | December 6\, 2025  Experience the forces of nature come alive on stage as Transform Through Arts 501(c)(3) presents ELEMENTAL ALCHEMY\, an extraordinary performance weaving together breathtaking aerials\, the fiery passion of Argentine tango\, the freedom of contemporary dance\, and the pulse of Latin rhythms. This one-night-only production takes place on Saturday\, December 6\, 2025\, at 7:30 PM at the historic Arlington Theatre. Doors open at 6:30 PM\, and seating is general admission. A Journey Through the Elements Elemental Alchemy invites audiences into a realm where Earth\, Fire\, Air\, and Water come to life through movement\, sound\, and light. The performance reveals the mystical bond between nature and the human soul\, a transformative journey that blends the power of dance with the magic of storytelling. Featured dance companies and artists include Elevated Dreams\, Elemental Arts\, Phoenix Family Performing Arts\, Yulia Maluta (TangoL'Amore)\, Julieta Barrionuevo & Alejandro Deocca\, Selah Dance Collective\, SBCC Dance Ensemble\, Just Baila\, Destined for Dance\, BCACSB\, Nilay Engin\, Matthew Willis\, and Danielle Monroy with Max Sinitsa. Adding to the night's enchantment are live musical performances by acclaimed singers Dakota Lotus\, Terrill Carter\, and Priya Deepika\, whose soulful voices bring emotional depth and resonance to the stage. A Celebration for All Ages Elemental Alchemy is a family-friendly event celebrating creativity\, connection\, and community. All ages are welcome. Students of all ages may purchase reduced-price tickets at the Arlington Theatre box office\, and youth in grades K 12 can receive free tickets with the purchase of an adult ticket\, available exclusively in person at the box office. About Transform Through Arts Transform Through Arts is a registered 501(c)(3) nonprofit organization dedicated to fostering personal and collective growth through artistic expression. By supporting diverse performers and companies\, the organization brings transformative\, high-caliber productions to Santa Barbara audiences while creating opportunities for youth\, emerging artists\, and professionals to collaborate. Event Details   Event: Elemental Alchemy   Presented by: Transform Through Arts 501(c)(3)   Date: Saturday\, December 6\, 2025   Time: 7:30 PM (Doors open at 6:30 PM)   Venue: Arlington Theatre\, Santa Barbara\, CA   Tickets On Sale: Tuesday\, October 14\, 2025\, at 3:15 PM PDT   Ages: All Ages Welcome   Ticket Info: General admission seating. Students of all ages can buy reduced price tickets at the Arlington box office. Youth in grades K-12 can receive free tickets with purchase of adult ticket\, also at the Arlington box office.
X-ALT-DESC;FMTTYPE=text/html:SANTA BARBARA\, CA | December 6\, 2025&mdash\; Experience the forces of nature come alive on stage as Transform Through Arts 501(c)(3) presents ELEMENTAL ALCHEMY\, an extraordinary performance weaving together breathtaking aerials\, the fiery passion of Argentine tango\, the freedom of contemporary dance\, and the pulse of Latin rhythms. This one-night-only production takes place on Saturday\, December 6\, 2025\, at 7:30 PM at the historic Arlington Theatre. Doors open at 6:30 PM\, and seating is general admission. A Journey Through the Elements Elemental Alchemy invites audiences into a realm where Earth\, Fire\, Air\, and Water come to life through movement\, sound\, and light. The performance reveals the mystical bond between nature and the human soul\, a transformative journey that blends the power of dance with the magic of storytelling. Featured dance companies and artists include Elevated Dreams\, Elemental Arts\, Phoenix Family Performing Arts\, Yulia Maluta (TangoL&rsquo\;Amore)\, Julieta Barrionuevo &amp\; Alejandro Deocca\, Selah Dance Collective\, SBCC Dance Ensemble\, Just Baila\, Destined for Dance\, BCACSB\, Nilay Engin\, Matthew Willis\, and Danielle Monroy with Max Sinitsa. Adding to the night&rsquo\;s enchantment are live musical performances by acclaimed singers Dakota Lotus\, Terrill Carter\, and Priya Deepika\, whose soulful voices bring emotional depth and resonance to the stage. A Celebration for All Ages Elemental Alchemy is a family-friendly event celebrating creativity\, connection\, and community. All ages are welcome. Students of all ages may purchase reduced-price tickets at the Arlington Theatre box office\, and youth in grades K&ndash\;12 can receive free tickets with the purchase of an adult ticket\, available exclusively in person at the box office. About Transform Through Arts Transform Through Arts is a registered 501(c)(3) nonprofit organization dedicated to fostering personal and collective growth through artistic expression. By supporting diverse performers and companies\, the organization brings transformative\, high-caliber productions to Santa Barbara audiences while creating opportunities for youth\, emerging artists\, and professionals to collaborate. Event Details &bull\; Event: Elemental Alchemy &bull\; Presented by: Transform Through Arts 501(c)(3) &bull\; Date: Saturday\, December 6\, 2025 &bull\; Time: 7:30 PM (Doors open at 6:30 PM) &bull\; Venue: Arlington Theatre\, Santa Barbara\, CA &bull\; Tickets On Sale: Tuesday\, October 14\, 2025\, at 3:15 PM PDT &bull\; Ages: All Ages Welcome &bull\; Ticket Info: General admission seating. Students of all ages can buy reduced price tickets at the Arlington box office. Youth in grades K-12 can receive free tickets with purchase of adult ticket\, also at the Arlington box office.
LOCATION:Arlington Theatre\, 1317 State St\, Santa Barbara\, CA 93101\, USA
UID:e.3636.3243
SEQUENCE:3
DTSTAMP:20260421T191336Z
URL:https://business.sbscchamber.com/events/details/elemental-alchemy-at-the-arlington-theatre-a-dance-journey-through-the-forces-of-nature-3243
END:VEVENT

END:VCALENDAR
