BEGIN:VCALENDAR
VERSION:2.0
PRODID:-//ChamberMaster//Event Calendar 2.0//EN
METHOD:PUBLISH
X-PUBLISHED-TTL:P3D
REFRESH-INTERVAL:P3D
CALSCALE:GREGORIAN
BEGIN:VEVENT
DTSTART:20241117T230000Z
DTEND:20241118T010000Z
X-MICROSOFT-CDO-ALLDAYEVENT:FALSE
SUMMARY:French Connections
DESCRIPTION:The New York Times raves: David Greilsammer is "One of the most accomplished and adventurous musicians of his generation." For one performance only\, David Greilsammer leads The Symphony in music from across three centuries by Rameau\, Haydn\, and Milhaud\, and conducting from the keyboard\, plays Ravel's jazz-inspired Piano Concerto in G. The Artists David Greilsammer\, guest conductor and pianist Repertoire Rameau | Orchestral Suite from Plat e Ravel | Piano Concerto in G Haydn | Symphony No. 85\, "La Reine" Milhaud | Le Boeuf sur le Toit
X-ALT-DESC;FMTTYPE=text/html:The New York Times raves: David Greilsammer is &ldquo\;One of the most accomplished and adventurous musicians of his generation.&rdquo\; For one performance only\, David Greilsammer leads The Symphony in music from across three centuries by Rameau\, Haydn\, and Milhaud\, and conducting from the keyboard\, plays Ravel&rsquo\;s jazz-inspired Piano Concerto in G. The Artists David Greilsammer\, guest conductor and pianist Repertoire Rameau | Orchestral Suite from Plat&eacute\;e Ravel | Piano Concerto in G Haydn | Symphony No. 85\, &ldquo\;La Reine&rdquo\; Milhaud | Le Boeuf sur le Toit
LOCATION:Granada Theatre - 1214 State Street\, Santa Barbara\, CA 93101
UID:e.3636.2116
SEQUENCE:3
DTSTAMP:20260421T160709Z
URL:https://business.sbscchamber.com/events/details/french-connections-2116
END:VEVENT

END:VCALENDAR
