BEGIN:VCALENDAR
VERSION:2.0
PRODID:-//ChamberMaster//Event Calendar 2.0//EN
METHOD:PUBLISH
X-PUBLISHED-TTL:P3D
REFRESH-INTERVAL:P3D
CALSCALE:GREGORIAN
BEGIN:VEVENT
DTSTART:20260221T010000Z
DTEND:20260221T040000Z
X-MICROSOFT-CDO-ALLDAYEVENT:FALSE
SUMMARY:GALLERY ROW - 3rd FRIDAY ART WALK - LA CUMBRE PLAZA\, Santa Barbara
DESCRIPTION:Art comes alive at La Cumbre Plaza Gallery Row. Explore dynamic galleries showcasing bold\, modern\, and unforgettable works by Santa Barbara based and regional artists. Open Tue Sun\, 12 5 PM. Join us for the La Cumbre Gallery Row Art Walk   3rd Friday\, 5 8 PM. Enjoy art\, music\, and inspiration. Participating Galleries: La Cumbre Center for Creative Arts LCCCA): Elevate\, Fine Line and Illuminations Gallery\; Voice Gallery\; Museum of Tibetan Art & Culture\, Grace Fisher's Inclusive Arts Clubhouse.
X-ALT-DESC;FMTTYPE=text/html:Art comes alive at La Cumbre Plaza Gallery Row. Explore dynamic galleries showcasing bold\, modern\, and unforgettable works by Santa Barbara&ndash\;based and regional artists. Open Tue&ndash\;Sun\, 12&ndash\;5 PM. Join us for the La Cumbre Gallery Row Art Walk &ndash\; 3rd Friday\, 5&ndash\;8 PM. Enjoy art\, music\, and inspiration. Participating Galleries: La Cumbre Center for Creative Arts LCCCA): Elevate\, Fine Line and Illuminations Gallery\; Voice Gallery\; Museum of Tibetan Art &amp\; Culture\, Grace Fisher&#39\;s Inclusive Arts Clubhouse.
LOCATION:La Cumbre Plaza 121 S. Hope Avenue Santa Barbara\, CA 93105 (behind Starbucks)
UID:e.3636.3427
SEQUENCE:3
DTSTAMP:20260421T174306Z
URL:https://business.sbscchamber.com/events/details/gallery-row-3rd-friday-art-walk-la-cumbre-plaza-santa-barbara-3427
END:VEVENT

END:VCALENDAR
