BEGIN:VCALENDAR
VERSION:2.0
PRODID:-//ChamberMaster//Event Calendar 2.0//EN
METHOD:PUBLISH
X-PUBLISHED-TTL:P3D
REFRESH-INTERVAL:P3D
CALSCALE:GREGORIAN
BEGIN:VEVENT
DTSTART:20220725T170000Z
DTEND:20220831T220000Z
X-MICROSOFT-CDO-ALLDAYEVENT:FALSE
SUMMARY:Gelson's Super Delicious Hatch Chile Extravaganza
DESCRIPTION:It's Hatch Chile Season!\nGelson's summer forecast: Very Chile ... as in Hatch Chile! Hailing from Hatch\, New Mexico\, these bursting-with-flavor peppers (spicy and a little sweet) are headlining a bunch of our delightful Kitchen dishes. Cooking at home? Purchase a case (or two!) of our freshly roasted Hatch Chiles and delight your taste buds with our delectable recipes!\n\n\n\nPickup & Delivery will be on the following weekends:\n\n\n	August 6-7 - Order by 8/3 at 4pm\n	August 13-14 - Order by 8/10 at 4pm\n	August 20-21 - Order by 8/17 at 4pm\n	August 27-28 - Order by 8/24 at 4pm\n	September 3-4 - Order by 8/31 at 4pm\n\nOrder now: gelsons.com/hatchchile\n\n\n\nAvailable for a limited time only!
X-ALT-DESC;FMTTYPE=text/html:<h4><span style="font-size:14px"><strong><span style="color:black">It&#39\;s Hatch Chile Season!</span></strong></span></h4>\n<span style="font-size:14px"><span style="color:black">Gelson&rsquo\;s summer forecast: Very Chile ... as in Hatch Chile! Hailing from Hatch\, New Mexico\, these bursting-with-flavor peppers (spicy and a little sweet) are headlining a bunch of our delightful Kitchen dishes. Cooking at home? Purchase a case (or two!) of our freshly roasted Hatch Chiles and delight your taste buds with our&nbsp\;<a href="https://www.gelsons.com/announcements/view/our-very-best-hatch-chile-recipes">delectable recipes</a>!</span><br />\n<br />\n<strong><span style="color:black"><span style="font-family:calibri\,sans-serif">Pickup &amp\; Delivery will be on the following weekends:</span></span></strong></span>\n\n<ul style="list-style-type:inherit">\n	<li><span style="font-size:14px"><strong><span style="color:black"><span style="font-family:calibri\,sans-serif">August 6-7</span></span></strong><span style="color:black">&nbsp\;- Order by 8/3 at 4pm</span></span></li>\n	<li><span style="font-size:14px"><strong><span style="color:black"><span style="font-family:calibri\,sans-serif">August 13-14</span></span></strong><span style="color:black">&nbsp\;- Order by 8/10 at 4pm</span></span></li>\n	<li><span style="font-size:14px"><strong><span style="color:black"><span style="font-family:calibri\,sans-serif">August 20-21</span></span></strong><span style="color:black">&nbsp\;- Order by 8/17 at 4pm</span></span></li>\n	<li><span style="font-size:14px"><strong><span style="color:black"><span style="font-family:calibri\,sans-serif">August 27-28</span></span></strong><span style="color:black">&nbsp\;- Order by 8/24 at 4pm</span></span></li>\n	<li><span style="font-size:14px"><strong><span style="color:black"><span style="font-family:calibri\,sans-serif">September 3-4&nbsp\;</span></span></strong><span style="color:black">- Order by 8/31 at 4pm</span></span></li>\n</ul>\n<span style="font-size:14px"><span style="color:black">Order now: gelsons.com/hatchchile</span><br />\n<br />\n<span style="color:black">Available for a limited time only!</span><br />\n&nbsp\;</span>
LOCATION:All Gelson's Locations
UID:e.3636.418
SEQUENCE:3
DTSTAMP:20260421T205157Z
URL:https://business.sbscchamber.com/events/details/gelson-s-super-delicious-hatch-chile-extravaganza-418
END:VEVENT

END:VCALENDAR
