BEGIN:VCALENDAR
VERSION:2.0
PRODID:-//ChamberMaster//Event Calendar 2.0//EN
METHOD:PUBLISH
X-PUBLISHED-TTL:P3D
REFRESH-INTERVAL:P3D
CALSCALE:GREGORIAN
BEGIN:VEVENT
DTSTART:20211212T020000Z
DTEND:20211212T050000Z
X-MICROSOFT-CDO-ALLDAYEVENT:FALSE
SUMMARY:Goleta Holiday Parade
DESCRIPTION:Back again! \n\nThe Goleta Holiday Parade will again flow down Hollister Avenue in Old Town for the delight of the community.\n\nCustom Holiday floats\, high school bands\, dance troops and toddlers will show off  on Sunday\, December 11\, 2021 from 6:00-9:00pm so don't miss the fun!!\n\nFor more information visit www.goletaholidayparade.org
X-ALT-DESC;FMTTYPE=text/html:<div style="text-align: center\;"><span style="font-size:14px"><strong><span style="font-size:18px">Back again! </span><br />\nThe Goleta Holiday Parade will again flow down Hollister Avenue in Old Town for the delight of the community.</strong></span></div>\n\n<div style="text-align: center\;"><span style="font-size:14px"><strong>Custom Holiday floats\, high school bands\, dance troops and toddlers will show off &nbsp\;on Sunday\, December 11\, 2021 from 6:00-9:00pm so don&rsquo\;t miss the fun!!</strong></span></div>\n\n<div style="text-align: center\;"><span style="font-size:14px"><strong>For more information visit <span style="color:#008080">www.goletaholiday</span><a href="http://parade.org/"><span style="color:#008080">parade.org</span></a></strong></span></div>\n
LOCATION:Hollister Avenue in Old Town Goleta from Fairview Avenue to the Goleta Community Center
UID:e.3636.322
SEQUENCE:3
DTSTAMP:20260422T091136Z
URL:https://business.sbscchamber.com/events/details/goleta-holiday-parade-322
END:VEVENT

END:VCALENDAR
