BEGIN:VCALENDAR
VERSION:2.0
PRODID:-//ChamberMaster//Event Calendar 2.0//EN
METHOD:PUBLISH
X-PUBLISHED-TTL:P3D
REFRESH-INTERVAL:P3D
CALSCALE:GREGORIAN
BEGIN:VEVENT
DTSTART:20211205T013000Z
DTEND:20211205T060000Z
X-MICROSOFT-CDO-ALLDAYEVENT:FALSE
SUMMARY:Goleta's Finest 2021
DESCRIPTION:The Santa Barbara South Coast Chamber of Commerce will be honoring Goleta's Finest with the return of the annual community awards gala on Saturday December 4th at the Ritz-Carlton Bacara. We are excited to bring this tradition back to celebrate the outstanding members of the Goleta community.\n\n \n\nThis will be an indoors event and upon entry will require proof of vaccination or negative covid test results within 72 hours prior.\n\n \n\nFor any questions\, please contact Chelsea Weininger\, Events Coordinator at Chelsea@sbcchamber.com
X-ALT-DESC;FMTTYPE=text/html:<p style="-webkit-font-smoothing: antialiased\; box-sizing: border-box\; margin: 0px\; color: rgb(36\, 36\, 36)\; font-family: &quot\;Segoe UI&quot\;\, system-ui\, &quot\;Apple Color Emoji&quot\;\, &quot\;Segoe UI Emoji&quot\;\, sans-serif\;"><span style="font-size: 12pt\; -webkit-font-smoothing: antialiased\; box-sizing: border-box\;">The Santa Barbara South Coast Chamber of Commerce will be honoring Goleta&rsquo\;s Finest with the return of the annual community awards gala on Saturday December 4</span><span style="-webkit-font-smoothing: antialiased\; box-sizing: border-box\;"><span style="font-size: 12px\;">th</span><span style="font-size: 12pt\;">&nbsp\;at the Ritz-Carlton Bacara. We are excited to bring this tradition back to celebrate the outstanding members of the Goleta community.</span></span></p>\n\n<p style="-webkit-font-smoothing: antialiased\; box-sizing: border-box\; margin: 0px\; color: rgb(36\, 36\, 36)\; font-family: &quot\;Segoe UI&quot\;\, system-ui\, &quot\;Apple Color Emoji&quot\;\, &quot\;Segoe UI Emoji&quot\;\, sans-serif\; font-size: 14px\;">&nbsp\;</p>\n\n<p style="-webkit-font-smoothing: antialiased\; box-sizing: border-box\; margin: 0px\; color: rgb(36\, 36\, 36)\; font-family: &quot\;Segoe UI&quot\;\, system-ui\, &quot\;Apple Color Emoji&quot\;\, &quot\;Segoe UI Emoji&quot\;\, sans-serif\; font-size: 14px\;"><span style="-webkit-font-smoothing: antialiased\; box-sizing: border-box\; font-size: 12pt\;">This will be an indoors event and upon entry will require proof of vaccination or negative covid test results within 72 hours prior.</span></p>\n\n<p style="-webkit-font-smoothing: antialiased\; box-sizing: border-box\; margin: 0px\; color: rgb(36\, 36\, 36)\; font-family: &quot\;Segoe UI&quot\;\, system-ui\, &quot\;Apple Color Emoji&quot\;\, &quot\;Segoe UI Emoji&quot\;\, sans-serif\; font-size: 14px\;">&nbsp\;</p>\n\n<p style="-webkit-font-smoothing: antialiased\; box-sizing: border-box\; margin: 0px\; color: rgb(36\, 36\, 36)\; font-family: &quot\;Segoe UI&quot\;\, system-ui\, &quot\;Apple Color Emoji&quot\;\, &quot\;Segoe UI Emoji&quot\;\, sans-serif\; font-size: 14px\;"><span style="-webkit-font-smoothing: antialiased\; box-sizing: border-box\; font-size: 12pt\;">For any questions\, please contact Chelsea Weininger\, Events Coordinator at Chelsea@sbcchamber.com</span></p>\n
LOCATION:The Ritz-Carlton Bacara 8301 Hollister Ave\, Santa Barbara\, CA 93117
UID:e.3636.335
SEQUENCE:3
DTSTAMP:20260422T074722Z
URL:https://business.sbscchamber.com/events/details/goleta-s-finest-2021-335
END:VEVENT

END:VCALENDAR
