BEGIN:VCALENDAR
VERSION:2.0
PRODID:-//ChamberMaster//Event Calendar 2.0//EN
METHOD:PUBLISH
X-PUBLISHED-TTL:P3D
REFRESH-INTERVAL:P3D
CALSCALE:GREGORIAN
BEGIN:VEVENT
DTSTART:20251206T013000Z
DTEND:20251206T050000Z
X-MICROSOFT-CDO-ALLDAYEVENT:FALSE
SUMMARY:Goleta's Finest 2025
DESCRIPTION:The Santa Barbara South Coast Chamber of Commerce will honor Goleta's Finest at the annual community awards gala on Friday\, December 5 at the Ritz-Carlton Bacara.
X-ALT-DESC;FMTTYPE=text/html:<p style="-webkit-font-smoothing: antialiased\; box-sizing: border-box\; margin: 0px\;"><span style="font-size:14px\;"><span style="font-family:arial\;"><span style="color: rgb(36\, 36\, 36)\; -webkit-font-smoothing: antialiased\; box-sizing: border-box\;">The Santa Barbara South Coast Chamber of Commerce will honor Goleta&#39\;s Finest at the annual community awards gala on Friday\, December 5</span><span style="-webkit-font-smoothing: antialiased\; box-sizing: border-box\;"><font color="#242424">&nbsp\;at the Ritz-Carlton Bacara.</font></span></span></span><br />\n&nbsp\;</p>\n
LOCATION:The Ritz-Carlton Bacara 8301 Hollister Ave\, Santa Barbara\, CA 93117
UID:e.3636.2191
SEQUENCE:3
DTSTAMP:20260421T185951Z
URL:https://business.sbscchamber.com/events/details/goleta-s-finest-2025-2191
END:VEVENT

END:VCALENDAR
