BEGIN:VCALENDAR
VERSION:2.0
PRODID:-//ChamberMaster//Event Calendar 2.0//EN
METHOD:PUBLISH
X-PUBLISHED-TTL:P3D
REFRESH-INTERVAL:P3D
CALSCALE:GREGORIAN
BEGIN:VEVENT
DTSTART;VALUE=DATE:20250719
DTEND;VALUE=DATE:20250722
TRANSP:TRANSPARENT
X-MICROSOFT-CDO-ALLDAYEVENT:TRUE
SUMMARY:Italian Pottery Outlet 1st Annual Sidewalk Sale!
DESCRIPTION:Savings of up to 75% off!\n\nHuge selection of garden pots\, dishes\, platters\, vases\, and more!!!
X-ALT-DESC;FMTTYPE=text/html:Savings of up to 75% off!<br />\nHuge selection of garden pots\, dishes\, platters\, vases\, and more!!!
LOCATION:
UID:e.3636.2316
SEQUENCE:3
DTSTAMP:20260421T085132Z
URL:https://business.sbscchamber.com/events/details/italian-pottery-outlet-1st-annual-sidewalk-sale-2316
END:VEVENT

END:VCALENDAR
