BEGIN:VCALENDAR
VERSION:2.0
PRODID:-//ChamberMaster//Event Calendar 2.0//EN
METHOD:PUBLISH
X-PUBLISHED-TTL:P3D
REFRESH-INTERVAL:P3D
CALSCALE:GREGORIAN
BEGIN:VEVENT
DTSTART:20251130T023000Z
DTEND:20251130T053000Z
X-MICROSOFT-CDO-ALLDAYEVENT:FALSE
SUMMARY:Kimpton Canary’s Don’t Sweat It Rooftop Party
DESCRIPTION:Show up and show out in your coziest\, comfiest\, or ugliest sweater at Kimpton Canary's Don't Sweat It Rooftop Party! On Saturday\, November 29 from 6:30-9:30pm\, vibe to beats from Claire Zielinski as she sets the tone with an immersive DJ mix that'll keep the energy high all night long! Sip on festive cocktails\, take in the rooftop views\, and dance under the cool autumn sky. Plus\, bring a new or gently used sweater to donate to the @unityshoppesb and help spread the warmth this holiday season. Be sure to reserve your spot early on Eventbrite and don't forget to bring a valid ID (21+) for entry. It's a night to get festive with your friends and family\, so grab your sweater\, your crew\, and don't sweat it!
X-ALT-DESC;FMTTYPE=text/html:Show up and show out in your coziest\, comfiest\, or ugliest sweater at Kimpton Canary&rsquo\;s Don&rsquo\;t Sweat It Rooftop Party! On Saturday\, November 29 from 6:30-9:30pm\, vibe to beats from Claire Zielinski as she sets the tone with an immersive DJ mix that&#39\;ll keep the energy high all night long! Sip on festive cocktails\, take in the rooftop views\, and dance under the cool autumn sky. Plus\, bring a new or gently used sweater to donate to the @unityshoppesb and help spread the warmth this holiday season. Be sure to reserve your spot early on Eventbrite&ndash\;and don&rsquo\;t forget to bring a valid ID (21+) for entry. It&rsquo\;s a night to get festive with your friends and family\, so grab your sweater\, your crew\, and don&rsquo\;t sweat it!
LOCATION:Kimpton Canary Hotel 31 W Carrillo St\, Santa Barbara\, CA 93101
UID:e.3636.3221
SEQUENCE:3
DTSTAMP:20260421T173418Z
URL:https://business.sbscchamber.com/events/details/kimpton-canary-s-don-t-sweat-it-rooftop-party-3221
END:VEVENT

END:VCALENDAR
