BEGIN:VCALENDAR
VERSION:2.0
PRODID:-//ChamberMaster//Event Calendar 2.0//EN
METHOD:PUBLISH
X-PUBLISHED-TTL:P3D
REFRESH-INTERVAL:P3D
CALSCALE:GREGORIAN
BEGIN:VEVENT
DTSTART:20240902T190000Z
DTEND:20240902T220000Z
X-MICROSOFT-CDO-ALLDAYEVENT:FALSE
SUMMARY:Labor Day Weekender: Suns Out Buns Out at the Canary
DESCRIPTION:Join Finch & Fork up on The Canary rooftop for a fun Labor Day sun-filled\, bun-filled event. Buns from Chef Shawn and beats from DJ Danny Welch. Enjoy: Classic Maine Lobster Roll $22 Fennel Sausage & Peppers Roll $14 The Hote Dog Hebrew National $10 Pulled Jackfruit Roll $14 *All served with house-made potato chips **Seating cannot be guarenteed
X-ALT-DESC;FMTTYPE=text/html:Join Finch &amp\; Fork up on The Canary rooftop for a fun Labor Day sun-filled\, bun-filled event. Buns from Chef Shawn and beats from DJ Danny Welch. Enjoy: Classic Maine Lobster Roll $22 Fennel Sausage &amp\; Peppers Roll $14 The Hote Dog Hebrew National $10 Pulled Jackfruit Roll $14 *All served with house-made potato chips **Seating cannot be guarenteed
LOCATION:Kimpton Canary Rooftop 31 West Carillo Street 93103\, Santa Barbara\, CA
UID:e.3636.2090
SEQUENCE:3
DTSTAMP:20260421T191202Z
URL:https://business.sbscchamber.com/events/details/labor-day-weekender-suns-out-buns-out-at-the-canary-2090
END:VEVENT

END:VCALENDAR
