BEGIN:VCALENDAR
VERSION:2.0
PRODID:-//ChamberMaster//Event Calendar 2.0//EN
METHOD:PUBLISH
X-PUBLISHED-TTL:P3D
REFRESH-INTERVAL:P3D
CALSCALE:GREGORIAN
BEGIN:VEVENT
DTSTART:20211210T170000Z
DTEND:20211210T180000Z
X-MICROSOFT-CDO-ALLDAYEVENT:FALSE
SUMMARY:Legislative Update
DESCRIPTION:Join the Santa Barbara South Coast Chamber of Commerce for the 2nd Legislative Update of 2021. The Legislative Update will take place via zoom on December 10th from 9:00 AM   10:00 AM. This series is an information-packed program\, designed to brief business members on the latest legislative updates\, business trends\, economic development and relevant issues that affect the Santa Barbara South Coast.\n\n \n\nSpeakers will include Congressman Salud Carbajal\, Senator Monique Limon\, and Santa Barbara County\, Second District Supervisor Gregg Hart  \n\n \n\nThis is a free event. Click the link below to register: https://us02web.zoom.us/webinar/register/WN_6Mb_650xTnKKOR8nQcNlow
X-ALT-DESC;FMTTYPE=text/html:<span style="background-image:initial\;background-position:initial\;background-size:initial\;background-repeat:initial\;background-attachment:initial\;background-origin:initial\;background-clip:initial\;"><span style="font-size:12pt\;">Join the Santa Barbara South Coast Chamber of Commerce for the 2<sup>nd</sup> Legislative Update of 2021. The Legislative Update will take place via zoom on December 10th from 9:00 AM &ndash\; 10:00 AM. This series is an information-packed program\, designed to brief business members on the latest legislative updates\, business trends\, economic development and relevant issues that affect the Santa Barbara South Coast.</span></span><br />\n&nbsp\;<br />\n<span style="font-size:12.0pt\;">Speakers will include Congressman Salud Carbajal\, Senator Monique Limon\, and Santa Barbara County\, Second District Supervisor Gregg Hart &nbsp\;</span><br />\n&nbsp\;<br />\n<span style="font-family:calibri\,sans-serif\;"><span style="font-size:12.0pt\;">This is a free event. Click the link below to register: <a href="https://us02web.zoom.us/webinar/register/WN_6Mb_650xTnKKOR8nQcNlow">https://us02web.zoom.us/webinar/register/WN_6Mb_650xTnKKOR8nQcNlow</a></span></span>
LOCATION:Free Informational Webinar
UID:e.3636.339
SEQUENCE:3
DTSTAMP:20260422T074354Z
URL:https://business.sbscchamber.com/events/details/legislative-update-339
END:VEVENT

END:VCALENDAR
