BEGIN:VCALENDAR
VERSION:2.0
PRODID:-//ChamberMaster//Event Calendar 2.0//EN
METHOD:PUBLISH
X-PUBLISHED-TTL:P3D
REFRESH-INTERVAL:P3D
CALSCALE:GREGORIAN
BEGIN:VEVENT
DTSTART:20250119T230000Z
DTEND:20250120T010000Z
X-MICROSOFT-CDO-ALLDAYEVENT:FALSE
SUMMARY:Mozart Marathon
DESCRIPTION:Two Concerts\, Two Different Programs Come face to face with the genius of Mozart. One weekend\, two different concerts\, eight masterworks. The exquisite "Eine Kleine Nachtmusik." Elegant concertos for piano\, for oboe\, for violin\, and for flute and harp. And one of his great final symphonies\, No. 35\, the "Haffner." Attend both concerts   The Symphony's Mozart Marathon   and be beguiled by the brilliance of Mozart. The Artists Nir Kabaretti\, conductor Jessica Guideri\, violin Lara Wicks\, oboe Natasha Kislenko\, piano The Repertoire Mozart | Eine Kleine Nachtmusik Mozart | Oboe Concerto Mozart | Symphony in D\, K 196 / 121 Mozart | Piano Concerto No. 23 in A\, K 488
X-ALT-DESC;FMTTYPE=text/html:Two Concerts\, Two Different Programs Come face to face with the genius of Mozart. One weekend\, two different concerts\, eight masterworks. The exquisite &ldquo\;Eine Kleine Nachtmusik.&rdquo\; Elegant concertos for piano\, for oboe\, for violin\, and for flute and harp. And one of his great final symphonies\, No. 35\, the &ldquo\;Haffner.&rdquo\; Attend both concerts &ndash\; The Symphony&rsquo\;s Mozart Marathon &ndash\; and be beguiled by the brilliance of Mozart. The Artists Nir Kabaretti\, conductor Jessica Guideri\, violin Lara Wicks\, oboe Natasha Kislenko\, piano The Repertoire Mozart | Eine Kleine Nachtmusik Mozart | Oboe Concerto Mozart | Symphony in D\, K 196 / 121 Mozart | Piano Concerto No. 23 in A\, K 488
LOCATION:The Granada Theatre - 1214 State Street\, Santa Barbara\, CA 93101
UID:e.3636.2119
SEQUENCE:3
DTSTAMP:20260421T103016Z
URL:https://business.sbscchamber.com/events/details/mozart-marathon-01-19-2025-2119
END:VEVENT

END:VCALENDAR
