BEGIN:VCALENDAR
VERSION:2.0
PRODID:-//ChamberMaster//Event Calendar 2.0//EN
METHOD:PUBLISH
X-PUBLISHED-TTL:P3D
REFRESH-INTERVAL:P3D
CALSCALE:GREGORIAN
BEGIN:VEVENT
DTSTART:20251010T010000Z
DTEND:20251011T060000Z
X-MICROSOFT-CDO-ALLDAYEVENT:FALSE
SUMMARY:NatureTrack Film Festival
DESCRIPTION:7th Annual NatureTrack Film Festival   A Celebration of Nature and Community Event Series beginning June 2025   Santa Barbara County Join NatureTrack Foundation as we celebrate our 15th anniversary with a vibrant\, year-long series of events centered around the 7th Annual NatureTrack Film Festival. The celebration kicks off in June with free outdoor film screenings at Refugio State Beach\, followed by an exclusive anniversary celebration\, and culminates in a special evening at Camino Real Marketplace Cinemas featuring a curated lineup of adventure- and nature-focused films from around the world. Experience the power of storytelling to inspire environmental stewardship\, community connection\, and accessibility for all. Each event highlights the power of environmental storytelling to inspire stewardship\, education\, and accessibility for all supporting NatureTrack's mission to connect people of all ages and abilities with nature. For more details and sponsorship opportunities\, visit www.naturetrackfilmfestival.org.
X-ALT-DESC;FMTTYPE=text/html:7th Annual NatureTrack Film Festival &ndash\; A Celebration of Nature and Community Event Series beginning June 2025 &ndash\; Santa Barbara County Join NatureTrack Foundation as we celebrate our 15th anniversary with a vibrant\, year-long series of events centered around the 7th Annual NatureTrack Film Festival. The celebration kicks off in June with free outdoor film screenings at Refugio State Beach\, followed by an exclusive anniversary celebration\, and culminates in a special evening at Camino Real Marketplace Cinemas featuring a curated lineup of adventure- and nature-focused films from around the world. Experience the power of storytelling to inspire environmental stewardship\, community connection\, and accessibility for all. Each event highlights the power of environmental storytelling to inspire stewardship\, education\, and accessibility for all&mdash\;supporting NatureTrack&rsquo\;s mission to connect people of all ages and abilities with nature. For more details and sponsorship opportunities\, visit www.naturetrackfilmfestival.org.
LOCATION:Refugio State Park Beach Camino Real Marketplace Cinemas
UID:e.3636.2277
SEQUENCE:3
DTSTAMP:20260421T144154Z
URL:https://business.sbscchamber.com/events/details/naturetrack-film-festival-2277
END:VEVENT

END:VCALENDAR
