BEGIN:VCALENDAR
VERSION:2.0
PRODID:-//ChamberMaster//Event Calendar 2.0//EN
METHOD:PUBLISH
X-PUBLISHED-TTL:P3D
REFRESH-INTERVAL:P3D
CALSCALE:GREGORIAN
BEGIN:VEVENT
DTSTART:20241001T010000Z
DTEND:20241001T020000Z
X-MICROSOFT-CDO-ALLDAYEVENT:FALSE
SUMMARY:Navigating EV Roadblocks
DESCRIPTION:Making the switch to an electric vehicle (EV) can be daunting. We're here to make it easy. Join the Community Environmental Council (CEC) to learn about why now is a great time to lease or purchase an EV. We'll address the most common concerns that keep people on the fence\, including:\n\n\n	Navigating incentives and rebates\n	Understanding lease agreements\n	Finding the right charging solution\n	Buying a used EV\n\n\nThis webinar is for individuals who understand the basics of driving electric\, but need more information before taking the leap. CEC's Electrify Your Life team and community members who drive an EV will be on hand to answer your questions and help clarify your outstanding concerns so you can start saving money and join the movement to reduce carbon emissions. Register now: https://us02web.zoom.us/webinar/register/8217249570682/WN_U7nV23_OTkCnJLSj05LTmg
X-ALT-DESC;FMTTYPE=text/html:<p>Making the switch to an electric vehicle (EV) can be daunting. We&rsquo\;re here to make it easy. Join the Community Environmental Council (CEC) to learn about why now is a great time to lease or purchase an EV. We&rsquo\;ll address the most common concerns that keep people on the fence\, including:</p>\n\n<ul>\n	<li>Navigating incentives and rebates</li>\n	<li>Understanding lease agreements</li>\n	<li>Finding the right charging solution</li>\n	<li>Buying a used EV</li>\n</ul>\n\n<p>This webinar is for individuals who understand the basics of driving electric\, but need more information before taking the leap. CEC&rsquo\;s Electrify Your Life team and community members who drive an EV will be on hand to answer your questions and help clarify your outstanding concerns so you can start saving money and join the movement to reduce carbon emissions. Register now:&nbsp\;<a class="ProsemirrorEditor-link" href="https://us02web.zoom.us/webinar/register/8217249570682/WN_U7nV23_OTkCnJLSj05LTmg">https://us02web.zoom.us/webinar/register/8217249570682/WN_U7nV23_OTkCnJLSj05LTmg</a></p>\n
LOCATION:Virtual\, Via Zoom
UID:e.3636.2098
SEQUENCE:3
DTSTAMP:20260421T190359Z
URL:https://business.sbscchamber.com/events/details/navigating-ev-roadblocks-2098
END:VEVENT

END:VCALENDAR
