BEGIN:VCALENDAR
VERSION:2.0
PRODID:-//ChamberMaster//Event Calendar 2.0//EN
METHOD:PUBLISH
X-PUBLISHED-TTL:P3D
REFRESH-INTERVAL:P3D
CALSCALE:GREGORIAN
BEGIN:VEVENT
DTSTART:20260101T190000Z
DTEND:20260101T220000Z
X-MICROSOFT-CDO-ALLDAYEVENT:FALSE
SUMMARY:New Year's Day Pajama Brunch at Finch & Fork
DESCRIPTION:Ring in the New Year at Finch & Fork with a fun and festive New Year's Day Pajama Brunch\, on Thursday\, January 1 from 11am - 2pm! This cozy morning will feature an a la carte menu including delightful options like the avocado toast\, lemon ricotta pancakes\, or zesty shashuka. Sip bottomless mimosas or enjoy the bloody mary car and rock to the tunes of DJ Darla Bea while she spins from 11am-2pm - all while in your favorite PJs. Kick off 2026 comfortably and cozy with Finch & Fork! Reservations are available now on OpenTable.
X-ALT-DESC;FMTTYPE=text/html:Ring in the New Year at Finch &amp\; Fork with a fun and festive New Year&#39\;s Day Pajama Brunch\, on Thursday\, January 1 from 11am - 2pm! This cozy morning will feature an a la carte menu including delightful options like the avocado toast\, lemon ricotta pancakes\, or zesty shashuka. Sip bottomless mimosas or enjoy the bloody mary car and rock to the tunes of DJ Darla Bea while she spins from 11am-2pm - all while in your favorite PJs. Kick off 2026 comfortably and cozy with Finch &amp\; Fork! Reservations are available now on OpenTable.
LOCATION:Finch & Fork\, 31 West Carrillo Street\, Santa Barbara\, CA
UID:e.3636.3276
SEQUENCE:3
DTSTAMP:20260421T191242Z
URL:https://business.sbscchamber.com/events/details/new-year-s-day-pajama-brunch-at-finch-fork-3276
END:VEVENT

END:VCALENDAR
