BEGIN:VCALENDAR
VERSION:2.0
PRODID:-//ChamberMaster//Event Calendar 2.0//EN
METHOD:PUBLISH
X-PUBLISHED-TTL:P3D
REFRESH-INTERVAL:P3D
CALSCALE:GREGORIAN
BEGIN:VEVENT
DTSTART:20260101T010000Z
DTEND:20260101T050000Z
X-MICROSOFT-CDO-ALLDAYEVENT:FALSE
SUMMARY:New Year's Eve Jazz Dinner at Finch & Fork
DESCRIPTION:Finch & Fork invites all to bid farewell to 2025 with a decadent New Year's Eve dinner on Wednesday\, December 31\, featuring a curated\, chef-driven three-course dinner and live jazz by duo Calo & Miles. For $125 per person\, the evening includes a thoughtfully curated menu crafted by Executive Chef John Vasquez\, with optional wine pairings and craft cocktails available to complement this special experience. Gather loved ones and join Finch & Fork for an intimate\, elegant evening to ring in the new year. Reservations are available now on OpenTable. Menu: The starter menu features Salmon Crudo (black garlic\, truffle\, ponzu\, garlic\, jalapeno) or Steak Tartare (egg\, dijon\, capers\, ajo aceite\, grilled sourdough) Choice of entr e includes Short Rib (truffle robuchon potato\, braised greens\, crispy shallot)\, Branzino (celery root puree\, crispy kale\, candied fresno\, charred lemon)\, Game Hen Coq au Vin (red wine\, pork belly\, root vegetables) Choice of dessert is a Chocolate Tart (luxardo cherry mousse\, hazelnut crumble\, candied orange)\, or Sticky Toffee Pudding (candied pecans\, vanilla bean chantilly\, bourbon toffee sauce)
X-ALT-DESC;FMTTYPE=text/html:Finch &amp\; Fork invites all to bid farewell to 2025 with a decadent New Year&rsquo\;s Eve dinner on Wednesday\, December 31\, featuring a curated\, chef-driven three-course dinner and live jazz by duo Calo &amp\; Miles. For $125 per person\, the evening includes a thoughtfully curated menu crafted by Executive Chef John Vasquez\, with optional wine pairings and craft cocktails available to complement this special experience. Gather loved ones and join Finch &amp\; Fork for an intimate\, elegant evening to ring in the new year. Reservations are available now on OpenTable. Menu: The starter menu features Salmon Crudo (black garlic\, truffle\, ponzu\, garlic\, jalapeno) or Steak Tartare (egg\, dijon\, capers\, ajo aceite\, grilled sourdough) Choice of entr&eacute\;e includes Short Rib (truffle robuchon potato\, braised greens\, crispy shallot)\, Branzino (celery root puree\, crispy kale\, candied fresno\, charred lemon)\, Game Hen Coq au Vin (red wine\, pork belly\, root vegetables) Choice of dessert is a Chocolate Tart (luxardo cherry mousse\, hazelnut crumble\, candied orange)\, or Sticky Toffee Pudding (candied pecans\, vanilla bean chantilly\, bourbon toffee sauce)
LOCATION:Finch & Fork\, 31 West Carrillo Street\, Santa Barbara\, CA
UID:e.3636.3275
SEQUENCE:3
DTSTAMP:20260421T174058Z
URL:https://business.sbscchamber.com/events/details/new-year-s-eve-jazz-dinner-at-finch-fork-3275
END:VEVENT

END:VCALENDAR
