BEGIN:VCALENDAR
VERSION:2.0
PRODID:-//ChamberMaster//Event Calendar 2.0//EN
METHOD:PUBLISH
X-PUBLISHED-TTL:P3D
REFRESH-INTERVAL:P3D
CALSCALE:GREGORIAN
BEGIN:VEVENT
DTSTART:20240917T170000Z
DTEND:20240917T190000Z
X-MICROSOFT-CDO-ALLDAYEVENT:FALSE
SUMMARY:No-Cost Training for Hotel Staff
DESCRIPTION:SoCalGas is teaming up with the City of Santa Barbara to train hotel facility managers and staff on actionable ways to save on their utility bills. Attendees will gain access to top-tier training\, networking opportunities\, and learn innovative solutions for water and energy savings. Highlights: After attending this seminar\, professionals will be able to identify opportunities to save water and energy at their business\, and take actionable steps to partner with SoCalGas and the City of Santa Barbara on efficiency upgrades. Target Audience: Hotel facility managers\, staff\, and other interested professionals in the Santa Barbara area. Resources: Attendees will be provided with the training slides and information on incentive and audit programs from SoCalGas and the City of Santa Barbara.
X-ALT-DESC;FMTTYPE=text/html:SoCalGas is teaming up with the City of Santa Barbara to train hotel facility managers and staff on actionable ways to save on their utility bills. Attendees will gain access to top-tier training\, networking opportunities\, and learn innovative solutions for water and energy savings. Highlights: After attending this seminar\, professionals will be able to identify opportunities to save water and energy at their business\, and take actionable steps to partner with SoCalGas and the City of Santa Barbara on efficiency upgrades. Target Audience: Hotel facility managers\, staff\, and other interested professionals in the Santa Barbara area. Resources: Attendees will be provided with the training slides and information on incentive and audit programs from SoCalGas and the City of Santa Barbara.
LOCATION:Santa Barbara Inn 901 E. Cabrillo Blvd.\, Santa Barbara\, CA 93103
UID:e.3636.2094
SEQUENCE:3
DTSTAMP:20260421T190758Z
URL:https://business.sbscchamber.com/events/details/no-cost-training-for-hotel-staff-2094
END:VEVENT

END:VCALENDAR
