BEGIN:VCALENDAR
VERSION:2.0
PRODID:-//ChamberMaster//Event Calendar 2.0//EN
METHOD:PUBLISH
X-PUBLISHED-TTL:P3D
REFRESH-INTERVAL:P3D
CALSCALE:GREGORIAN
BEGIN:VEVENT
DTSTART:20251121T180000Z
DTEND:20251121T210000Z
X-MICROSOFT-CDO-ALLDAYEVENT:FALSE
SUMMARY:NUDA Studio: Special Holiday Glow Wellness Event
DESCRIPTION:This fall\, The Ritz-Carlton Bacara\, Santa Barbara is partnering with NUDA Studio to bring an exclusive wellness experience to our breathtaking coastal property on Friday\, November 21\, 2025.\n\nRooted in self-confidence and self-care\, NUDA Studio goes beyond beauty on the surface to help guests nurture their inner glow. Designed to inspire alignment of mind\, body\, and glow\, NUDA Studio gatherings bring together like-minded individuals who value feeling as radiant as they look.\n\nThrough curated wellness experiences from mindful movement to glow-enhancing rituals each moment is thoughtfully crafted to spark connection\, elevate confidence\, and celebrate the beauty of feeling well.
X-ALT-DESC;FMTTYPE=text/html:This fall\, The Ritz-Carlton Bacara\, Santa Barbara is partnering with NUDA Studio to bring an exclusive wellness experience to our breathtaking coastal property on Friday\, November 21\, 2025.<br />\nRooted in self-confidence and self-care\, NUDA Studio goes beyond beauty on the surface to help guests nurture their inner glow. Designed to inspire alignment of mind\, body\, and glow\, NUDA Studio gatherings bring together like-minded individuals who value feeling as radiant as they look.<br />\nThrough curated wellness experiences&mdash\;from mindful movement to glow-enhancing rituals&mdash\;each moment is thoughtfully crafted to spark connection\, elevate confidence\, and celebrate the beauty of feeling well.
LOCATION:The Ritz-Carlton Spa Bacara\, Santa Barbara 8301 Hollister Avenue Goleta\, CA 93117
UID:e.3636.2363
SEQUENCE:3
DTSTAMP:20260421T162130Z
URL:https://business.sbscchamber.com/events/details/nuda-studio-special-holiday-glow-wellness-event-2363
END:VEVENT

END:VCALENDAR
