BEGIN:VCALENDAR
VERSION:2.0
PRODID:-//ChamberMaster//Event Calendar 2.0//EN
METHOD:PUBLISH
X-PUBLISHED-TTL:P3D
REFRESH-INTERVAL:P3D
CALSCALE:GREGORIAN
BEGIN:VEVENT
DTSTART:20211028T160000Z
DTEND:20211028T173000Z
X-MICROSOFT-CDO-ALLDAYEVENT:FALSE
SUMMARY:October B2B Virtual Networking
DESCRIPTION:The Santa Barbara South Coast Chamber of Commerce is excited to announce our October Virtual Business-2-Business Networking on Thursday\, October 28th 9 a.m.-10:30 a.m.\n\n\n\nTo preserve some community connection in this time of being apart\, you'll have the chance to interact with speakers and share an update on your business. Every attendee will have an opportunity to share their 30-second commercial with the group. A hot-sheet with attendees will be provided after the event.\n\n\n\nThank you to our October sponsor Braille Institute!
X-ALT-DESC;FMTTYPE=text/html:<p data-key="40"><span style="color: rgb(35\, 35\, 51)\; font-family: Lato\, Helvetica\, Arial\; font-size: 14px\;">The Santa Barbara South Coast Chamber of Commerce is excited to announce our October Virtual Business-2-Business Networking on Thursday\, October 28th 9 a.m.-10:30 a.m.</span><br style="box-sizing: border-box\; color: rgb(35\, 35\, 51)\; font-family: Lato\, Helvetica\, Arial\; font-size: 14px\;" />\n<br style="box-sizing: border-box\; color: rgb(35\, 35\, 51)\; font-family: Lato\, Helvetica\, Arial\; font-size: 14px\;" />\n<span style="color: rgb(35\, 35\, 51)\; font-family: Lato\, Helvetica\, Arial\; font-size: 14px\;">To preserve some community connection in this time of being apart\, you&rsquo\;ll have the chance to interact with speakers and share an update on your business. Every attendee will have an opportunity to share their 30-second commercial with the group. A hot-sheet with attendees will be provided after the event.</span><br style="box-sizing: border-box\; color: rgb(35\, 35\, 51)\; font-family: Lato\, Helvetica\, Arial\; font-size: 14px\;" />\n<br style="box-sizing: border-box\; color: rgb(35\, 35\, 51)\; font-family: Lato\, Helvetica\, Arial\; font-size: 14px\;" />\n<span style="color: rgb(35\, 35\, 51)\; font-family: Lato\, Helvetica\, Arial\; font-size: 14px\;">Thank you to our October sponsor Braille Institute!</span></p>\n\n<p data-key="44">&nbsp\;</p>\n
LOCATION:After registering\, you will receive a confirmation email and staff will email you a link containing information on how to join the Zoom meeting.
UID:e.3636.105
SEQUENCE:3
DTSTAMP:20260422T104847Z
URL:https://business.sbscchamber.com/events/details/october-b2b-virtual-networking-105
END:VEVENT

END:VCALENDAR
