BEGIN:VCALENDAR
VERSION:2.0
PRODID:-//ChamberMaster//Event Calendar 2.0//EN
METHOD:PUBLISH
X-PUBLISHED-TTL:P3D
REFRESH-INTERVAL:P3D
CALSCALE:GREGORIAN
BEGIN:VEVENT
DTSTART:20250216T010000Z
DTEND:20250216T050000Z
X-MICROSOFT-CDO-ALLDAYEVENT:FALSE
SUMMARY:Opening Artists Reception for the Solstice Poster Art Contest
DESCRIPTION:About the event Solstice is happy to announce the Opening Artists Reception for the Solstice Poster Art Contest will be at Wylde Works Santa Barbara Saturday\, February 15\, 5-9 PM. Wylde Works is becoming a home for Solstice events\, artists and performers! The Solstice poster artwork will be on display until the February 22 Closing Reception. The artwork will then be online so the public can continue to vote until February 27. COLLECTION OF THE ART: The collection of artwork for the Poster Art Contest will take place at the Solstice Office Thursday February 13th\, 924 Anacapa Street\, Suite 3-H (third floor) from 11:00 am to 5:00 PM. Artwork must be ready to hang\, with the title of the artwork\, your name\, address\, email and phone number on the back. Additionally\, if you wish to offer it for sale\, please list the price. There is a nominal entry fee of $15 per entry.
X-ALT-DESC;FMTTYPE=text/html:About the event Solstice is happy to announce the Opening Artists Reception for the Solstice Poster Art Contest will be at Wylde Works Santa Barbara Saturday\, February 15\, 5-9 PM. Wylde Works is becoming a home for Solstice events\, artists and performers! The Solstice poster artwork will be on display until the February 22 Closing Reception. The artwork will then be online so the public can continue to vote until February 27. COLLECTION OF THE ART: The collection of artwork for the Poster Art Contest will take place at the Solstice Office Thursday February 13th\, 924 Anacapa Street\, Suite 3-H (third floor) from 11:00 am to 5:00 PM. Artwork must be ready to hang\, with the title of the artwork\, your name\, address\, email and phone number on the back. Additionally\, if you wish to offer it for sale\, please list the price. There is a nominal entry fee of $15 per entry.
LOCATION:Wyld Works
UID:e.3636.2209
SEQUENCE:3
DTSTAMP:20260421T083648Z
URL:https://business.sbscchamber.com/events/details/opening-artists-reception-for-the-solstice-poster-art-contest-2209
END:VEVENT

END:VCALENDAR
