BEGIN:VCALENDAR
VERSION:2.0
PRODID:-//ChamberMaster//Event Calendar 2.0//EN
METHOD:PUBLISH
X-PUBLISHED-TTL:P3D
REFRESH-INTERVAL:P3D
CALSCALE:GREGORIAN
BEGIN:VEVENT
DTSTART:20260220T170000Z
DTEND:20260220T210000Z
X-MICROSOFT-CDO-ALLDAYEVENT:FALSE
SUMMARY:Personalized Career Planning: FREE workshop at SBCC Extended Learning
DESCRIPTION:Discover your strengths\, clarify your goals\, and plan your future. Take the next step with confidence. Start planning your path today! This two-session workshop focuses on the assessment of your strengths\, interests\, values\, personality and abilities in the context of career and education planning Improve decision-making skills by exploring your own decision-making styles and applying specific models to the career planning process. Personalized Career Planning takes place on Tuesday\, February 20 & February 27\, 9:00 a.m.   1:00 p.m. Course number (CRN): 52331 Date: Tuesday\, February 20 & February 27 Time: 9:00 AM   1:00 PM Format: In-Person Location: Wake Campus at 300 N Turnpike Road\, Santa Barbara\, CA 93111 Class cost: Free\, registration required Contact: Register online at https://sel.sbcc.edu For help with registration\, visit Schott or Wake Campus Welcome Centers during walk-in hours\, or call (805) 683-8201. For hours and more resources\, go to sbcc.edu/extendedlearning/get-help.php SBCC School of Extended Learning's Career Skills Institute Boost your career with SBCC School of Extended Learning's Career Skills Institute courses. Our courses are designed to help you land a job\, get promoted\, or build your business. Earn a certificate and digital badge to prove your skills and stand out to employers. Ready to sharpen your negotiation skills or build a foundation in computer or design skills? SBCC Career Skills Institute offers the courses and certificates you need to stay competitive and confident in today's job market. Save the Date: April 29\, THE FUTURE LOOKS BRIGHT Job Fair. Find out more at https://www.sbcc.edu/extendedlearning/job_fair.php
X-ALT-DESC;FMTTYPE=text/html:Discover your strengths\, clarify your goals\, and plan your future. Take the next step with confidence. Start planning your path today! This two-session workshop focuses on the assessment of your strengths\, interests\, values\, personality and abilities in the context of career and education planning Improve decision-making skills by exploring your own decision-making styles and applying specific models to the career planning process. Personalized Career Planning takes place on Tuesday\, February 20 &amp\; February 27\, 9:00 a.m. &ndash\; 1:00 p.m. Course number (CRN): 52331 Date: Tuesday\, February 20 &amp\; February 27 Time: 9:00 AM &ndash\; 1:00 PM Format: In-Person Location: Wake Campus at 300 N Turnpike Road\, Santa Barbara\, CA 93111 Class cost: Free\, registration required Contact: Register online at https://sel.sbcc.edu For help with registration\, visit Schott or Wake Campus Welcome Centers during walk-in hours\, or call (805) 683-8201. For hours and more resources\, go to sbcc.edu/extendedlearning/get-help.php SBCC School of Extended Learning&rsquo\;s Career Skills Institute Boost your career with SBCC School of Extended Learning&rsquo\;s Career Skills Institute courses. Our courses are designed to help you land a job\, get promoted\, or build your business. Earn a certificate and digital badge to prove your skills and stand out to employers. Ready to sharpen your negotiation skills or build a foundation in computer or design skills? SBCC Career Skills Institute offers the courses and certificates you need to stay competitive and confident in today&rsquo\;s job market. Save the Date: April 29\, THE FUTURE LOOKS BRIGHT Job Fair. Find out more at https://www.sbcc.edu/extendedlearning/job_fair.php
LOCATION:Wake Campus at 300 N Turnpike Road\, Santa Barbara\, CA 93111
UID:e.3636.3435
SEQUENCE:3
DTSTAMP:20260421T190144Z
URL:https://business.sbscchamber.com/events/details/personalized-career-planning-free-workshop-at-sbcc-extended-learning-3435
END:VEVENT

END:VCALENDAR
