BEGIN:VCALENDAR
VERSION:2.0
PRODID:-//ChamberMaster//Event Calendar 2.0//EN
METHOD:PUBLISH
X-PUBLISHED-TTL:P3D
REFRESH-INTERVAL:P3D
CALSCALE:GREGORIAN
BEGIN:VEVENT
DTSTART:20251108T023000Z
DTEND:20251108T040000Z
X-MICROSOFT-CDO-ALLDAYEVENT:FALSE
SUMMARY:Profs at the Pub: The Mysteries of Creativity
DESCRIPTION:Join UCSB Professor\, Department Chair\, & author Sameer Pandya as he discusses the several different influences from E.M. Forster's novel "A Passage to India" to American football and an old family photograph that shaped the writing of his new novel\, "Our Beautiful Boys". Professor Pandya will follow the discussion with a short reading from his novel and a Q&A with the audience.
X-ALT-DESC;FMTTYPE=text/html:Join UCSB Professor\, Department Chair\, &amp\; author Sameer Pandya as he discusses the several different influences&mdash\;from E.M. Forster&#39\;s novel &quot\;A Passage to India&quot\;&nbsp\;to American football and an old family photograph&mdash\;that shaped the writing of his new novel\, &ldquo\;Our Beautiful Boys&rdquo\;. Professor Pandya will follow the discussion with a short reading from his novel and&nbsp\;a Q&amp\;A with the audience.
LOCATION:Captain Fatty's Brewing 6489 Calle Real Suite D\, Goleta\, CA 93117
UID:e.3636.3213
SEQUENCE:3
DTSTAMP:20260421T174133Z
URL:https://business.sbscchamber.com/events/details/profs-at-the-pub-the-mysteries-of-creativity-3213
END:VEVENT

END:VCALENDAR
