BEGIN:VCALENDAR
VERSION:2.0
PRODID:-//ChamberMaster//Event Calendar 2.0//EN
METHOD:PUBLISH
X-PUBLISHED-TTL:P3D
REFRESH-INTERVAL:P3D
CALSCALE:GREGORIAN
BEGIN:VEVENT
DTSTART:20251011T230000Z
DTEND:20251012T030000Z
X-MICROSOFT-CDO-ALLDAYEVENT:FALSE
SUMMARY:Ranch Table
DESCRIPTION:Join Us for a Magical Evening at Rancho San Julian You're invited to an unforgettable night on Saturday\, October 11th\, set against the stunning backdrop of the historic Rancho San Julian headquarters. Step into the heart of California ranch life with an evening filled with rich tradition\, vibrant community\, and meaningful purpose. Enjoy engaging ranch activities\, sip on locally sourced wines\, and take a journey through Rancho San Julian's history with a special presentation by Elizabeth Poett. The evening will feature live music\, an exciting fundraising auction\, and warm hospitality throughout. The highlight of the night is a seasonal\, farm-to-table dinner inspired by The Ranch Table cookbook\, served in the ranch's iconic century-old barn a truly unique and memorable dining experience. Every ticket supports the Foodbank of Santa Barbara County \, making your evening not just unforgettable\, but impactful. We are still offering Exclusive Corporate Sponsorship Opportunities. Reserve your seat today space is limited\, and this special night will sell out quickly!
X-ALT-DESC;FMTTYPE=text/html:Join Us for a Magical Evening at Rancho San Julian You&#39\;re invited to an unforgettable night on Saturday\, October 11th\, set against the stunning backdrop of the historic Rancho San Julian headquarters. Step into the heart of California ranch life with an evening filled with rich tradition\, vibrant community\, and meaningful purpose. Enjoy engaging ranch activities\, sip on locally sourced wines\, and take a journey through Rancho San Julian&rsquo\;s history with a special presentation by Elizabeth Poett. The evening will feature live music\, an exciting fundraising auction\, and warm hospitality throughout. The highlight of the night is a seasonal\, farm-to-table dinner inspired by The Ranch Table cookbook\, served in the ranch&rsquo\;s iconic century-old barn&mdash\;a truly unique and memorable dining experience. Every ticket supports the Foodbank of Santa Barbara County \, making your evening not just unforgettable\, but impactful. We are still offering Exclusive Corporate Sponsorship Opportunities. Reserve your seat today&mdash\;space is limited\, and this special night will sell out quickly!
LOCATION:6000 San Julian Rd\, Lompoc\, CA 93436
UID:e.3636.2315
SEQUENCE:3
DTSTAMP:20260421T160202Z
URL:https://business.sbscchamber.com/events/details/ranch-table-2315
END:VEVENT

END:VCALENDAR
