BEGIN:VCALENDAR
VERSION:2.0
PRODID:-//ChamberMaster//Event Calendar 2.0//EN
METHOD:PUBLISH
X-PUBLISHED-TTL:P3D
REFRESH-INTERVAL:P3D
CALSCALE:GREGORIAN
BEGIN:VEVENT
DTSTART:20251003T000000Z
DTEND:20251003T030000Z
X-MICROSOFT-CDO-ALLDAYEVENT:FALSE
SUMMARY:Rock Your Heart Out
DESCRIPTION:Hearts Aligned\n\npresents\n\n\n\nROCK YOUR HEART OUT!\n\nFeaturing\n\nHUNTER HAWKINS\n\nJoin us on October 2\, 2025\, 5-8 pm at The Red Piano\n\nA Fundraiser for Hearts Aligned benefitting families with critically ill children\n\n\n\nAn evening of music and fun while supporting a good cause!
X-ALT-DESC;FMTTYPE=text/html:<h1 style="font-style: italic\; text-align: center\;"><span style="font-family:arial\,helvetica\,sans-serif"><span style="font-size:23.4px"><strong>Hearts Aligned<br />\npresents<br />\n<br />\n<span style="font-size:26px">ROCK YOUR HEART OUT!</span></strong></span></span></h1>\n\n<h2 style="text-align: center\;">Featuring</h2>\n\n<h1 style="text-align: center\;"><strong>HUNTER HAWKINS</strong></h1>\n\n<h2 style="text-align: center\;"><span style="font-size:14px"><span style="font-family:arial\,helvetica\,sans-serif"><span style="font-size:18px">Join us on October 2\, 2025\, 5-8 pm at The Red Piano</span></span></span></h2>\n\n<div style="text-align: center\;"><span style="font-size:14px"><span style="font-family:arial\,helvetica\,sans-serif">A Fundraiser for Hearts Aligned benefitting families with critically ill children<br />\n<br />\nAn evening of music and fun while supporting a good cause!</span></span></div>\n
LOCATION:The Red Piano 519 State St. Santa Barbara\, CA 93101
UID:e.3636.3168
SEQUENCE:3
DTSTAMP:20260421T161025Z
URL:https://business.sbscchamber.com/events/details/rock-your-heart-out-3168
END:VEVENT

END:VCALENDAR
