BEGIN:VCALENDAR
VERSION:2.0
PRODID:-//ChamberMaster//Event Calendar 2.0//EN
METHOD:PUBLISH
X-PUBLISHED-TTL:P3D
REFRESH-INTERVAL:P3D
CALSCALE:GREGORIAN
BEGIN:VEVENT
DTSTART:20251115T030000Z
DTEND:20251115T053000Z
X-MICROSOFT-CDO-ALLDAYEVENT:FALSE
SUMMARY:Santa Barbara Laugh Festival - Hollister Elementary School Fundraiser
DESCRIPTION:This year's Santa Barbara Laugh Festival show at JAVA STATION COMEDY is dedicated to the Hollister Elementary PTA. Known as the Hollister HAWKS! At Hollister: Hawks\, Act Responsibly\, With Respect\, Kindness\, and Safety.\n\nThese guiding principles help Hollister Elementary create a learning environment where students not only grow academically but also learn to care for one another and their community.\n\nThe Santa Barbara Comedy Club is proud to support the Hollister Elementary School PTA to ensure all students at Hollister embody the HAWKS guiding principles for life.\n\nJoin the PTA in your community and be part of creating a community that works for everyone\, with no one left out.
X-ALT-DESC;FMTTYPE=text/html:<p>This year&rsquo\;s Santa Barbara Laugh Festival show at JAVA STATION COMEDY is dedicated to the Hollister Elementary PTA. Known as the Hollister HAWKS! At&nbsp\;Hollister: <strong><u>H</u></strong>awks\, <strong><u>A</u></strong>ct&nbsp\;Responsibly\, <strong><u>W</u></strong>ith Respect\, <strong><u>K</u></strong>indness\, and <strong><u>S</u></strong>afety.</p>\n\n<p>These guiding principles help Hollister Elementary create a learning environment where students not only grow academically but also learn to care for one another and their community.</p>\n\n<p>The Santa Barbara Comedy Club is proud to support the Hollister Elementary School PTA to ensure all students at Hollister embody the HAWKS guiding principles for life.</p>\n\n<p>Join the PTA in your community and be part of creating a community that works for everyone\, with no one left out.</p>\n
LOCATION:Java Station Comedy 4447 Hollister Avenue\, Santa Barbara\, CA 93110
UID:e.3636.3232
SEQUENCE:3
DTSTAMP:20260421T173517Z
URL:https://business.sbscchamber.com/events/details/santa-barbara-laugh-festival-hollister-elementary-school-fundraiser-3232
END:VEVENT

END:VCALENDAR
