BEGIN:VCALENDAR
VERSION:2.0
PRODID:-//ChamberMaster//Event Calendar 2.0//EN
METHOD:PUBLISH
X-PUBLISHED-TTL:P3D
REFRESH-INTERVAL:P3D
CALSCALE:GREGORIAN
BEGIN:VEVENT
DTSTART:20251115T030000Z
DTEND:20251115T053000Z
X-MICROSOFT-CDO-ALLDAYEVENT:FALSE
SUMMARY:Santa Barbara Laugh Festival - La Casa de la Raza Fundraiser
DESCRIPTION:Santa Barbara's favorite comedy tradition to kick off the holiday season is back bigger\, brighter\, and bursting with heartfelt laughs. Join us at La Casa de la Raza theater for a spectacular night of stand-up comedy with Erica Rhodes\, Those Klein Boyz\, Cat Alvarado\, and Mattio Martinez.  \n\nThis All-American lineup will leave you laughing for weeks\, ensuring you start the new year the best way possible\, laughing.  \n\nLa Casa de la Raza is a safe haven where individuals and families have access to essential support\, education\, and legal empowerment. Through our programs and initiatives\, we equip them with the tools to overcome challenges and advocate for their rights and well-being. Learn more at: Home | La Casa de la Raza
X-ALT-DESC;FMTTYPE=text/html:<p>Santa Barbara&rsquo\;s favorite comedy tradition to kick off the holiday season is back&mdash\;bigger\, brighter\, and bursting with heartfelt laughs. Join us at La Casa de la Raza theater for a spectacular night of stand-up comedy with Erica Rhodes\, Those Klein Boyz\, Cat Alvarado\, and Mattio Martinez. &nbsp\;</p>\n\n<p>This All-American lineup will leave you laughing for weeks\, ensuring you start the new year the best way possible\, laughing. &nbsp\;</p>\n\n<p>La Casa de la Raza is a safe haven where individuals and families have access to essential support\, education\, and legal empowerment. Through our programs and initiatives\, we equip them with the tools to overcome challenges and advocate for their rights and well-being. Learn more at: <a href="https://www.lacasafounders.org/" rel="noopener" target="_blank">Home | La Casa de la Raza</a></p>\n
LOCATION:601 E. Montecito Street\, Santa Barbara\, CA 93103
UID:e.3636.3231
SEQUENCE:3
DTSTAMP:20260421T173543Z
URL:https://business.sbscchamber.com/events/details/santa-barbara-laugh-festival-la-casa-de-la-raza-fundraiser-3231
END:VEVENT

END:VCALENDAR
