BEGIN:VCALENDAR
VERSION:2.0
PRODID:-//ChamberMaster//Event Calendar 2.0//EN
METHOD:PUBLISH
X-PUBLISHED-TTL:P3D
REFRESH-INTERVAL:P3D
CALSCALE:GREGORIAN
BEGIN:VEVENT
DTSTART:20251116T030000Z
DTEND:20251116T053000Z
X-MICROSOFT-CDO-ALLDAYEVENT:FALSE
SUMMARY:Santa Barbara Laugh Festival - Newhouse Santa Barbara
DESCRIPTION:With a 75-year history of helping people transform their lives. The Santa Barbara Comedy Club is honored to bring some peace\, love\, and laughs to the Newhouse Santa Barbara Community. This year's Newhouse comedy show delivers three headliners for one night of hilarious comedy: Jeanne Whitney\, Kat Bird\, and Josh Spear. You can expect to laugh like you've never laughed before. See you there.
X-ALT-DESC;FMTTYPE=text/html:With a 75-year history of helping people transform their lives. The Santa Barbara Comedy Club is honored to bring some peace\, love\, and laughs to the Newhouse Santa Barbara Community. This year&rsquo\;s Newhouse comedy show delivers three headliners for one night of hilarious comedy: Jeanne Whitney\, Kat Bird\, and Josh Spear. You can expect to laugh like you&rsquo\;ve never laughed before. See you there.
LOCATION:Alano Club of Santa Barbara\, 235 E. Cota St.\, Santa Barbara\, CA 93101
UID:e.3636.3233
SEQUENCE:3
DTSTAMP:20260421T174550Z
URL:https://business.sbscchamber.com/events/details/santa-barbara-laugh-festival-newhouse-santa-barbara-3233
END:VEVENT

END:VCALENDAR
