BEGIN:VCALENDAR
VERSION:2.0
PRODID:-//ChamberMaster//Event Calendar 2.0//EN
METHOD:PUBLISH
X-PUBLISHED-TTL:P3D
REFRESH-INTERVAL:P3D
CALSCALE:GREGORIAN
BEGIN:VEVENT
DTSTART:20251116T033000Z
DTEND:20251116T230000Z
X-MICROSOFT-CDO-ALLDAYEVENT:FALSE
SUMMARY:Santa Barbra Symphony- Mozart Requiem
DESCRIPTION:Mozart Requiem Saturday\, November 15\, 2025 | 7:30 PM Sunday\, November 16\, 2025 | 3:00 PM The genius of Wolfgang Amadeus Mozart revealed itself early\, developed swiftly\, and vanished all too soon. Nir Kabaretti leads the Santa Barbara Symphony\, the Santa Barbara Symphony Chorus and soloists in the deeply affecting Requiem\, the final testament that Mozart would never live to complete. Plus\, the radiant Musica Celestis of Aaron Jay Kernis\, and a newly commissioned work from the brilliant\, colorful composer Andrea Tarrodi\, her Double Trombone Concerto featuring The Symphony's own Dillon MacIntyre and Swedish brass virtuoso Christian Lindberg. The Artists Nir Kabaretti\, Conductor Christian Lindberg\, Trombone Dillon MacIntyre\, Trombone Anastasia Malliaras\, Soprano Christina Pezzarossi\, Mezzo-Soprano Andrew Gilstrap\, Bass-Baritone Brad Bickhardt\, Tenor Santa Barbara Symphony Chorus Repertoire AARON JAY KERNIS | Musica Celestis ANDREA TARRODI | Double Trombone Concerto (co-commissioned by The Symphony and Tonhalle D sseldorf. Dedicated to Christian Lindberg\, Daniel T llez Guti rrez\, & Dillon MacIntyre) MOZART | Requiem Attend "Conversations with KUSC" with on-air personality Jennifer Miller Hammel Saturday Pre-Concert Chat | 6:30-7:00 PM Sunday Pre-Concert Chat | 2:00-2:30 PM For more info and tickets\, visit: https://thesymphony.org/concerts-events/orchestra-concerts/mozart-requiem/
X-ALT-DESC;FMTTYPE=text/html:Mozart Requiem Saturday\, November 15\, 2025 | 7:30 PM Sunday\, November 16\, 2025 | 3:00 PM The genius of Wolfgang Amadeus Mozart revealed itself early\, developed swiftly\, and vanished all too soon. Nir Kabaretti leads the Santa Barbara Symphony\, the Santa Barbara Symphony Chorus and soloists in the deeply affecting Requiem\, the final testament that Mozart would never live to complete. Plus\, the radiant Musica Celestis of Aaron Jay Kernis\, and a newly commissioned work from the brilliant\, colorful composer Andrea Tarrodi\, her Double Trombone Concerto featuring The Symphony&rsquo\;s own Dillon MacIntyre and Swedish brass virtuoso Christian Lindberg. The Artists Nir Kabaretti\, Conductor Christian Lindberg\, Trombone Dillon MacIntyre\, Trombone Anastasia Malliaras\, Soprano Christina Pezzarossi\, Mezzo-Soprano Andrew Gilstrap\, Bass-Baritone Brad Bickhardt\, Tenor Santa Barbara Symphony Chorus Repertoire AARON JAY KERNIS | Musica Celestis ANDREA TARRODI | Double Trombone Concerto (co-commissioned by The Symphony and Tonhalle D&uuml\;sseldorf. Dedicated to Christian Lindberg\, Daniel T&eacute\;llez Guti&eacute\;rrez\, &amp\; Dillon MacIntyre) MOZART | Requiem Attend &quot\;Conversations with KUSC&quot\; with on-air personality Jennifer Miller Hammel Saturday Pre-Concert Chat | 6:30-7:00 PM Sunday Pre-Concert Chat | 2:00-2:30 PM For more info and tickets\, visit: https://thesymphony.org/concerts-events/orchestra-concerts/mozart-requiem/
LOCATION:Granada Theatre\, 1214 State St.\, Santa Barbara\, CA
UID:e.3636.3201
SEQUENCE:3
DTSTAMP:20260421T173515Z
URL:https://business.sbscchamber.com/events/details/santa-barbra-symphony-mozart-requiem-3201
END:VEVENT

END:VCALENDAR
