BEGIN:VCALENDAR
VERSION:2.0
PRODID:-//ChamberMaster//Event Calendar 2.0//EN
METHOD:PUBLISH
X-PUBLISHED-TTL:P3D
REFRESH-INTERVAL:P3D
CALSCALE:GREGORIAN
BEGIN:VEVENT
DTSTART:20260301T030000Z
DTEND:20260301T050000Z
X-MICROSOFT-CDO-ALLDAYEVENT:FALSE
SUMMARY:South Coast Stand-Up Comedy
DESCRIPTION:A Night of Clean Comedy at the Alcazar Theatre We make your Saturday plans easy with an evening of smart\, clean comedy at the Alcazar Theatre. Whether you're a local or a day-tripper\, this show delivers big laughs in a relaxed\, classic theater setting. The February 28 lineup features three nationally touring comedians with credits on national television: Kristi McHugh is a nationally touring comedian who has appeared on Comedy Central and SiriusXM Comedy Channels. She has performed at major comedy clubs and festivals across the country and is a respected presence on the national stand-up circuit. Paul Clay is a nationally touring stand-up comedian with national television credits and extensive experience performing at comedy clubs\, theaters\, and corporate events across the U.S. Carlos Oscar is a nationally touring comedian who has appeared on The Tonight Show and was named Princess Cruise Line's Entertainer of the Year. He has performed internationally and is one of the most in-demand clean comedians working today. The night kicks off with our improv team to get the laughs started early. Grab a drink\, settle in\, and enjoy a night of laughs clean comedy\, done right\, at the Alcazar (Talent Subject to Change)
X-ALT-DESC;FMTTYPE=text/html:A Night of Clean Comedy at the Alcazar Theatre We make your Saturday plans easy with an evening of smart\, clean comedy at the Alcazar Theatre. Whether you&rsquo\;re a local or a day-tripper\, this show delivers big laughs in a relaxed\, classic theater setting. The February 28 lineup features three nationally touring comedians with credits on national television: Kristi McHugh is a nationally touring comedian who has appeared on Comedy Central and SiriusXM Comedy Channels. She has performed at major comedy clubs and festivals across the country and is a respected presence on the national stand-up circuit. Paul Clay is a nationally touring stand-up comedian with national television credits and extensive experience performing at comedy clubs\, theaters\, and corporate events across the U.S. Carlos Oscar is a nationally touring comedian who has appeared on The Tonight Show and was named Princess Cruise Line&rsquo\;s Entertainer of the Year. He has performed internationally and is one of the most in-demand clean comedians working today. The night kicks off with our improv team to get the laughs started early. Grab a drink\, settle in\, and enjoy a night of laughs&mdash\;clean comedy\, done right\, at the Alcazar (Talent Subject to Change)
LOCATION:The Alcazar Theatre 4916 Carpinteria Ave Carpinteria CA 93013
UID:e.3636.3426
SEQUENCE:3
DTSTAMP:20260421T191111Z
URL:https://business.sbscchamber.com/events/details/south-coast-stand-up-comedy-02-28-2026-3426
END:VEVENT

END:VCALENDAR
