BEGIN:VCALENDAR
VERSION:2.0
PRODID:-//ChamberMaster//Event Calendar 2.0//EN
METHOD:PUBLISH
X-PUBLISHED-TTL:P3D
REFRESH-INTERVAL:P3D
CALSCALE:GREGORIAN
BEGIN:VEVENT
DTSTART:20250330T003000Z
DTEND:20250330T023000Z
X-MICROSOFT-CDO-ALLDAYEVENT:FALSE
SUMMARY:Spring into Spring with Life at The Dumpling and T.W. Hollister
DESCRIPTION:Join Kimpton Canary on Wednesday\, March 19 from 5:30-7:30pm for Spring into Spring with Life at the Dumpling and T.W. Hollister\, an evening of self-care and renewal honoring International Women's History Month and the Spring Equinox. Curated by Trisha Cole\, author of Life at the Dumpling\, this interactive event features hands-on wellness experiences\, from crafting self-care items to enjoying a seasonal cocktail from T.W. Hollister and bites from Finch & Fork. Guests will take home a copy of Life at the Dumpling\, a bottle of T.W. Hollister vermouth\, and more. Tickets are $71.21 and includes a T.W. Hollister welcome spritz\, take-home items from each activity station\, a copy of Life at the Dumpling\, a bottle of T.W. Hollister vermouth and a gift tote from the Kimpton Canary Hotel. Make the night of it with a special 30% Good Neighbor rate! Photo courtesy of Life at the Dumpling
X-ALT-DESC;FMTTYPE=text/html:Join Kimpton Canary on Wednesday\, March 19 from 5:30-7:30pm for Spring into Spring with Life at the Dumpling and T.W. Hollister\, an evening of self-care and renewal honoring International Women&rsquo\;s History Month and the Spring Equinox. Curated by Trisha Cole\, author of Life at the Dumpling\, this interactive event features hands-on wellness experiences\, from crafting self-care items to enjoying a seasonal cocktail from T.W. Hollister and bites from Finch &amp\; Fork. Guests will take home a copy of Life at the Dumpling\, a bottle of T.W. Hollister vermouth\, and more. Tickets are $71.21 and includes a T.W. Hollister welcome spritz\, take-home items from each activity station\, a copy of Life at the Dumpling\, a bottle of T.W. Hollister vermouth and a gift tote from the Kimpton Canary Hotel. Make the night of it with a special 30% Good Neighbor rate! Photo courtesy of Life at the Dumpling
LOCATION:Finch and Fork
UID:e.3636.2222
SEQUENCE:3
DTSTAMP:20260421T144156Z
URL:https://business.sbscchamber.com/events/details/spring-into-spring-with-life-at-the-dumpling-and-t-w-hollister-2222
END:VEVENT

END:VCALENDAR
