BEGIN:VCALENDAR
VERSION:2.0
PRODID:-//ChamberMaster//Event Calendar 2.0//EN
METHOD:PUBLISH
X-PUBLISHED-TTL:P3D
REFRESH-INTERVAL:P3D
CALSCALE:GREGORIAN
BEGIN:VEVENT
DTSTART:20241103T220000Z
DTEND:20241104T000000Z
X-MICROSOFT-CDO-ALLDAYEVENT:FALSE
SUMMARY:Stow House First Sunday Concert with Moneluv
DESCRIPTION:Join the Goleta Valley Historical Society for our November First Sunday Concert! Come groove to some California dance pop and alternative psychedelic rock with Moneluv! Moneluv's compositions have a Beatle-esque song and singing style with groovy tension & instrumentation. With their retro vibes\, cool synth-bass style undertones and hypnotic vocals\, Moneluv is sure to make you move! Bring your blanket\, pack a picnic\, and tell your friends to tag along! Donations for performers are appreciated.
X-ALT-DESC;FMTTYPE=text/html:Join the Goleta Valley Historical Society for our November First Sunday Concert! Come groove to some California dance pop and alternative psychedelic rock with Moneluv! Moneluv&rsquo\;s compositions have a Beatle-esque song and singing style with groovy tension &amp\; instrumentation. With their retro vibes\, cool synth-bass style undertones and hypnotic vocals\, Moneluv is sure to make you move! Bring your blanket\, pack a picnic\, and tell your friends to tag along! Donations for performers are appreciated.
LOCATION:Rancho La Patera & Stow House 304 North Los Carneros Road Goleta\, CA 93117
UID:e.3636.2149
SEQUENCE:3
DTSTAMP:20260421T160605Z
URL:https://business.sbscchamber.com/events/details/stow-house-first-sunday-concert-with-moneluv-2149
END:VEVENT

END:VCALENDAR
