BEGIN:VCALENDAR
VERSION:2.0
PRODID:-//ChamberMaster//Event Calendar 2.0//EN
METHOD:PUBLISH
X-PUBLISHED-TTL:P3D
REFRESH-INTERVAL:P3D
CALSCALE:GREGORIAN
BEGIN:VEVENT
DTSTART;VALUE=DATE:20251031
DTEND;VALUE=DATE:20260102
TRANSP:TRANSPARENT
X-MICROSOFT-CDO-ALLDAYEVENT:TRUE
SUMMARY:Stranger Things Pop-Up at Bank of Italy & Strange Beast!
DESCRIPTION:The fifth and final season of Netflix's Sci-Fi phenomenon Stranger Things is set to debut this holiday season\, and Ventura's Strange Beast and Bank of Italy Cocktail Trust are ready to turn the town upside down literally. Beginning October 31 through January 1\, both bars will transform into immersive Stranger Things-inspired experiences that transport fans straight back to 1980s Hawkins\, Indiana. Strange Beast will be transformed into an eerie\, neon-lit world where 80s rock meets Dungeons & Dragons. At Bank of Italy\, guests will step into a full winter wonderland\, with a nostalgic playlist of classic hits on rotation and a disco ball for dancing\, channeling the Snow Ball '84 finale from the show. Both spaces will feature otherworldly and nostalgic decor\, themed limited-time-only cocktail menus\, competitive pay-to-play games and plenty of photo-worthy moments for fans.
X-ALT-DESC;FMTTYPE=text/html:The fifth and final season of Netflix&rsquo\;s Sci-Fi phenomenon Stranger Things is set to debut this holiday season\, and Ventura&rsquo\;s Strange Beast and Bank of Italy Cocktail Trust are ready to turn the town upside down&mdash\;literally. Beginning October 31 through January 1\, both bars will transform into immersive Stranger Things-inspired experiences that transport fans straight back to 1980s Hawkins\, Indiana. Strange Beast will be transformed into an eerie\, neon-lit world where 80s rock meets Dungeons &amp\; Dragons. At Bank of Italy\, guests will step into a full winter wonderland\, with a nostalgic playlist of classic hits on rotation and a disco ball for dancing\, channeling the Snow Ball &rsquo\;84 finale from the show. Both spaces will feature otherworldly and nostalgic decor\, themed limited-time-only cocktail menus\, competitive pay-to-play games and plenty of photo-worthy moments for fans.
LOCATION:Strange Beast & Bank of Italy Cocktail Trust 394 E Main St\, Suite A & B\, Ventura\, CA 93001
UID:e.3636.3218
SEQUENCE:3
DTSTAMP:20260421T144214Z
URL:https://business.sbscchamber.com/events/details/stranger-things-pop-up-at-bank-of-italy-strange-beast-3218
END:VEVENT

END:VCALENDAR
