BEGIN:VCALENDAR
VERSION:2.0
PRODID:-//ChamberMaster//Event Calendar 2.0//EN
METHOD:PUBLISH
X-PUBLISHED-TTL:P3D
REFRESH-INTERVAL:P3D
CALSCALE:GREGORIAN
BEGIN:VEVENT
DTSTART:20240916T010000Z
DTEND:20240916T030000Z
X-MICROSOFT-CDO-ALLDAYEVENT:FALSE
SUMMARY:Sunset Sip & Shuck with Margerum Wines at the Canary
DESCRIPTION:Join Finch & Fork for an unforgettable evening on the Kimpton Canary Rooftop on September 15th\, as we showcase a variety of handcrafted Margerum Wines! Soak up the 360 degree views of mountains and ocean\, whilst listening to the hazy melodies of Argentinian singer songwriter Catalina Esteves. The tasting is $36 which also includes a full glass of wine plus half dozen oysters. This is the last in the series of 'Sunset Sip & Shuck' with Margerum Wines so enjoy the last summer sunsets with this perfect pairing!
X-ALT-DESC;FMTTYPE=text/html:Join Finch &amp\; Fork for an unforgettable evening on the Kimpton Canary Rooftop on September 15th\, as we showcase a variety of handcrafted Margerum Wines! Soak up the 360 degree views of mountains and ocean\, whilst listening to the hazy melodies of Argentinian singer songwriter Catalina Esteves. The tasting is $36 which also includes a full glass of wine plus half dozen oysters. This is the last in the series of &#39\;Sunset Sip &amp\; Shuck&#39\; with Margerum Wines so enjoy the last summer sunsets with this perfect pairing!
LOCATION:Canary Hotel Rooftop 31 West Carrillo Street 93103\, Santa Barbara\, CA
UID:e.3636.2096
SEQUENCE:3
DTSTAMP:20260421T191321Z
URL:https://business.sbscchamber.com/events/details/sunset-sip-shuck-with-margerum-wines-at-the-canary-2096
END:VEVENT

END:VCALENDAR
