BEGIN:VCALENDAR
VERSION:2.0
PRODID:-//ChamberMaster//Event Calendar 2.0//EN
METHOD:PUBLISH
X-PUBLISHED-TTL:P3D
REFRESH-INTERVAL:P3D
CALSCALE:GREGORIAN
BEGIN:VEVENT
DTSTART:20210624T153000Z
DTEND:20210624T233000Z
X-MICROSOFT-CDO-ALLDAYEVENT:FALSE
SUMMARY:Supervisory Skills
DESCRIPTION:SBCC School of Extended Learning\, Career Skills Institute Prepare to advance your career by learning the key tools for effective management and supervision. Course covers delegation\, feedback\, communicating with employees\, motivation and management styles. You may elect to take this course independent of a Career Skills Institute digital badge or apply it to the Emerging Leaders Certificate. Participants who earn this certificate will be enabled to develop the additional management\, supervisory and leadership skills to open up additional work and advancement opportunities. This certificate is also a gateway into other noncredit and credit programs\, helping students develop workplace skills and training that will qualify them for even more work opportunities. To obtain the Emerging Leaders Certificate\, participants must complete a total of four required courses: Required: (1) Leadership Skills (2) Supervisory Skills (3) Motivating Yourself and Others (4) Increasing Productivity Supervisory Skills takes place on Thursday\, June 24. This class will be held 8:30 AM   4:30 PM. Course number: PROW NC012 (CRN 21724) Date: Thursday\, June 24 Time: 8:30 AM   4:30 PM Location: Online live video using Zoom Class cost: Free Contact: Register online at https://www.sbcc.edu/ExtendedLearning. For assistance with registration\, call (805) 683-8205. About SBCC School of Extended Learning The School of Extended Learning responds to the diverse learning needs of the adult population in the Santa Barbara community by advancing career and life skills\, and building bridges to credit. SBCC Career Skills Institute is part of the programs offered through the School of Extended Learning. The innovative program is endorsed by LinkedIn  and serves job seekers\, employers and employees with a tuition free\, noncredit certificate program to provide career training for employees and job seekers. Participants can earn certificates and digital badges demonstrating knowledge and skills in over 60 areas of business\, design\, technology\, and career education. For more information\, visit www.sbcc.edu/ExtendedLearning.
X-ALT-DESC;FMTTYPE=text/html:SBCC School of Extended Learning\, Career Skills Institute Prepare to advance your career by learning the key tools for effective management and supervision. Course covers delegation\, feedback\, communicating with employees\, motivation and management styles. You may elect to take this course independent of a Career Skills Institute digital badge or apply it to the Emerging Leaders Certificate. Participants who earn this certificate will be enabled to develop the additional management\, supervisory and leadership skills to open up additional work and advancement opportunities. This certificate is also a gateway into other noncredit and credit programs\, helping students develop workplace skills and training that will qualify them for even more work opportunities. To obtain the Emerging Leaders Certificate\, participants must complete a total of four required courses: Required: (1) Leadership Skills (2) Supervisory Skills (3) Motivating Yourself and Others (4) Increasing Productivity Supervisory Skills takes place on Thursday\, June 24. This class will be held 8:30 AM &ndash\; 4:30 PM. Course number: PROW NC012 (CRN 21724) Date: Thursday\, June 24 Time: 8:30 AM &ndash\; 4:30 PM Location: Online live video using Zoom Class cost: Free Contact: Register online at https://www.sbcc.edu/ExtendedLearning. For assistance with registration\, call (805) 683-8205. About SBCC School of Extended Learning The School of Extended Learning responds to the diverse learning needs of the adult population in the Santa Barbara community by advancing career and life skills\, and building bridges to credit. SBCC Career Skills Institute is part of the programs offered through the School of Extended Learning. The innovative program is endorsed by LinkedIn&reg\; and serves job seekers\, employers and employees with a tuition&ndash\;free\, noncredit certificate program to provide career training for employees and job seekers. Participants can earn certificates and digital badges demonstrating knowledge and skills in over 60 areas of business\, design\, technology\, and career education. For more information\, visit www.sbcc.edu/ExtendedLearning.
LOCATION:Online Via Zoom
UID:e.3636.87
SEQUENCE:3
DTSTAMP:20260422T165505Z
URL:https://business.sbscchamber.com/events/details/supervisory-skills-87
END:VEVENT

END:VCALENDAR
