BEGIN:VCALENDAR
VERSION:2.0
PRODID:-//ChamberMaster//Event Calendar 2.0//EN
METHOD:PUBLISH
X-PUBLISHED-TTL:P3D
REFRESH-INTERVAL:P3D
CALSCALE:GREGORIAN
BEGIN:VEVENT
DTSTART:20260318T213000Z
DTEND:20260319T010000Z
X-MICROSOFT-CDO-ALLDAYEVENT:FALSE
SUMMARY:TechTopia Summit 2026
DESCRIPTION:TechTopia Summit celebrates and elevates the region's thriving high-tech community from Goleta to Carpinteria. This year's event will be held at Oasis on the UC Santa Barbara campus and will include tours and a dynamic speaker panel sharing the stories behind local tech companies\, showcasing advanced technologies\, and exploring challenges and opportunities for industry growth.
X-ALT-DESC;FMTTYPE=text/html:TechTopia Summit celebrates and elevates the region&rsquo\;s thriving high-tech community from Goleta to Carpinteria. This year&rsquo\;s event will be held at Oasis on the UC Santa Barbara campus and will include tours and a dynamic speaker panel sharing the stories behind local tech companies\, showcasing advanced technologies\, and exploring challenges and opportunities for industry growth.
LOCATION:Oasis - Details coming soon
UID:e.3636.3282
SEQUENCE:3
DTSTAMP:20260421T172953Z
URL:https://business.sbscchamber.com/events/details/techtopia-summit-2026-3282
END:VEVENT

END:VCALENDAR
