BEGIN:VCALENDAR
VERSION:2.0
PRODID:-//ChamberMaster//Event Calendar 2.0//EN
METHOD:PUBLISH
X-PUBLISHED-TTL:P3D
REFRESH-INTERVAL:P3D
CALSCALE:GREGORIAN
BEGIN:VEVENT
DTSTART:20251127T200000Z
DTEND:20251128T030000Z
X-MICROSOFT-CDO-ALLDAYEVENT:FALSE
SUMMARY:Thanksgiving Harvest Buffet at Finch & Fork
DESCRIPTION:Gather your loved ones and celebrate Thanksgiving with an unforgettable feast on Thursday\, November 27\, at Finch & Fork! From 12-7pm\, Finch & Fork will be offering a sensational harvest buffet\, featuring seasonal ingredients from local family farms\, including a savory carving station\, spectacular raw bar\, soups\, salads\, and endless desserts\, perfectly paired with hand-crafted cocktails\, local wines\, and bubbles. Guests are invited to enjoy a festive spread that highlights the local bounty and comforting holiday classics with a twist\, all set in the warm\, inviting atmosphere of downtown Santa Barbara's favorite neighborhood restaurant. Whether you're toasting with friends or sharing a family feast\, Finch & Fork is the perfect place to gather and give thanks this Thanksgiving. Reservations are strongly encouraged\, with tickets available for purchase on OpenTable: $120 per adult and $55 for children under 12 years old. Beverages are served additionally.
X-ALT-DESC;FMTTYPE=text/html:Gather your loved ones and celebrate Thanksgiving with an unforgettable feast on Thursday\, November 27\, at Finch &amp\; Fork! From 12-7pm\, Finch &amp\; Fork will be offering a sensational harvest buffet\, featuring seasonal ingredients from local family farms\, including a savory carving station\, spectacular raw bar\, soups\, salads\, and endless desserts\, perfectly paired with hand-crafted cocktails\, local wines\, and bubbles. Guests are invited to enjoy a festive spread that highlights the local bounty and comforting holiday classics with a twist\, all set in the warm\, inviting atmosphere of downtown Santa Barbara&rsquo\;s favorite neighborhood restaurant. Whether you&rsquo\;re toasting with friends or sharing a family feast\, Finch &amp\; Fork is the perfect place to gather and give thanks this Thanksgiving. Reservations are strongly encouraged\, with tickets available for purchase on OpenTable: $120 per adult and $55 for children under 12 years old. Beverages are served additionally.
LOCATION:Finch & Fork 31 W Carillo St. Santa Barbara\, CA 93101
UID:e.3636.3197
SEQUENCE:3
DTSTAMP:20260421T174133Z
URL:https://business.sbscchamber.com/events/details/thanksgiving-harvest-buffet-at-finch-fork-11-27-2025-3197
END:VEVENT

END:VCALENDAR
