BEGIN:VCALENDAR
VERSION:2.0
PRODID:-//ChamberMaster//Event Calendar 2.0//EN
METHOD:PUBLISH
X-PUBLISHED-TTL:P3D
REFRESH-INTERVAL:P3D
CALSCALE:GREGORIAN
BEGIN:VEVENT
DTSTART:20241128T200000Z
DTEND:20241129T030000Z
X-MICROSOFT-CDO-ALLDAYEVENT:FALSE
SUMMARY:Thanksgiving Harvest Buffet at Finch & Fork
DESCRIPTION:Gather your loved ones for an extraordinary Thanksgiving at Finch & Fork's 'Thanksgiving Harvest Buffet\,' on November 28th! Savor a beautifully crafted and curated harvest buffet\, featuring local produce from the Santa Barbara region and local family farms. Indulge in a spectacular raw bar\, carving stations\, beloved classic sides and innovative new favorites\, soups\, salads\, and a decadent dessert display. Raise a glass and give thanks with hand-crafted cocktails\, local wines\, and sparkling bubbles. Tickets are $120 for adults and $55 for children under 12 years old. Reserve a spot today and join Finch & Fork for a feast to remember!
X-ALT-DESC;FMTTYPE=text/html:Gather your loved ones for an extraordinary Thanksgiving at Finch &amp\; Fork&rsquo\;s &lsquo\;Thanksgiving Harvest Buffet\,&rsquo\; on November 28th! Savor a beautifully crafted and curated harvest buffet\, featuring local produce from the Santa Barbara region and local family farms. Indulge in a spectacular raw bar\, carving stations\, beloved classic sides and innovative new favorites\, soups\, salads\, and a decadent dessert display. Raise a glass and give thanks with hand-crafted cocktails\, local wines\, and sparkling bubbles. Tickets are $120 for adults and $55 for children under 12 years old. Reserve a spot today and join Finch &amp\; Fork for a feast to remember!
LOCATION:Finch & Fork 31 West Carrillo Street\, Santa Barbara CA 93101
UID:e.3636.2153
SEQUENCE:3
DTSTAMP:20260421T160600Z
URL:https://business.sbscchamber.com/events/details/thanksgiving-harvest-buffet-at-finch-fork-2153
END:VEVENT

END:VCALENDAR
