BEGIN:VCALENDAR
VERSION:2.0
PRODID:-//ChamberMaster//Event Calendar 2.0//EN
METHOD:PUBLISH
X-PUBLISHED-TTL:P3D
REFRESH-INTERVAL:P3D
CALSCALE:GREGORIAN
BEGIN:VEVENT
DTSTART:20251213T030000Z
DTEND:20251213T050000Z
X-MICROSOFT-CDO-ALLDAYEVENT:FALSE
SUMMARY:Una Noche de las Posadas
DESCRIPTION:An evening of tradition\, music\, food\, and community in the heart of the Presidio Neighborhood.\n\nJoin us for our Una Noche de Las Posadas ("The Inns") event\, which celebrates the cherished holiday tradition still observed throughout Latin America. In the evening\, we'll embark on a procession from the Chapel at El Presidio de Santa B rbara State Historic Park to Casa de la Guerra\, singing holiday songs in Spanish. Las Posadas is a reenactment of Mary and Joseph's search for lodging\, a beloved tradition of seeking shelter and welcoming all. \n\nRudy's Presidio Mexican Restaurant and Los Tarascos will be co-sponsoring this event by serving traditional Posadas food and the Mujeres Makers Market will be curating a special evening market full of vintage and handmade goods. \n\nCome together with family and friends on Friday\, December 12th to share in the joy and unity that Las Posadas represents\, as we celebrate the spirit of community. \n\nMujeres Makers Market is open from 5PM-9PM at Casa de la Guerra at 15 East De la Guerra Street\, Santa Barbara\, CA 93101.\n\nThe event begins 7:00pm at the Chapel at El Presidio de Santa B rbara SHP at 123 East Canon Perdido Street\, Santa Barbara\, CA 93101.\n\nBefore the program begins\, from 6:00-6:30\, SBTHP members can enjoy a reception with live music in the Presidio Orchard. Wine and nonalcoholic beverages will be served for free. Not an SBTHP member? Become one today! \n\nThis is a free event. Free parking in the parking lot at 117 E Canon Perdido St and also behind Panino at 834 Santa Barbara St. \n\n For more information call (805) 965-0093. \n\n \n\nThis event is proudly sponsored by Montecito Bank and Trust\, Sidney Stern Memorial Trust\, and the Santa Barbara Puerto Vallarta Sister City Committee.
X-ALT-DESC;FMTTYPE=text/html:<h3 style="text-align:center"><span style="color:rgb(181\, 87\, 38)">An evening of tradition\, music\, food\, and community in the heart of the Presidio Neighborhood.</span></h3>\n\n<p><span style="color:rgb(45\, 41\, 38)">Join us for our Una Noche de Las Posadas (&ldquo\;The Inns&rdquo\;) event\, which celebrates the cherished holiday tradition still observed throughout Latin America. In the evening\, we&#39\;ll embark on a procession from the Chapel at El Presidio de Santa B&aacute\;rbara State Historic Park to Casa de la Guerra\, singing holiday songs in Spanish. Las Posadas is a reenactment of Mary and Joseph&#39\;s search for lodging\, a beloved tradition of seeking shelter and welcoming all.&nbsp\;</span></p>\n\n<p><span style="color:rgb(45\, 41\, 38)">Rudy&rsquo\;s Presidio Mexican Restaurant and Los Tarascos will be co-sponsoring this event by serving traditional Posadas food and the Mujeres Makers Market will be curating a special evening market full of vintage and handmade goods.&nbsp\;</span></p>\n\n<p><span style="color:rgb(45\, 41\, 38)">Come together with family and friends on Friday\, December 12th to share in the joy and unity that Las Posadas represents\, as we celebrate the spirit of community.&nbsp\;</span></p>\n\n<p><span style="color:rgb(45\, 41\, 38)"><strong>Mujeres Makers Market is open from 5PM-9PM at Casa de la Guerra at 15 East De la Guerra Street\, Santa Barbara\, CA 93101.</strong></span></p>\n\n<p><span style="color:rgb(45\, 41\, 38)">The event begins 7:00pm at the Chapel at El Presidio de Santa B&aacute\;rbara SHP at&nbsp\;123 East Canon Perdido Street\, Santa Barbara\, CA 93101.</span></p>\n\n<p><span style="color:rgb(45\, 41\, 38)">Before the program begins\, from 6:00-6:30\, SBTHP members can enjoy a reception with live music in the Presidio Orchard. Wine and nonalcoholic beverages will be served for free. Not an SBTHP member? </span><a href="https://www.sbthp.org/advocates" style="background-image: unset\; background-position: unset\; background-size: unset\; background-repeat: unset\; background-attachment: initial\; background-origin: initial\; background-clip: initial\; background-color: initial\; cursor: pointer\; color: rgb(181\, 87\, 38)\; text-decoration-thickness: 1px\; text-decoration-style: solid\; text-decoration-color: currentcolor\; white-space: initial\; text-underline-offset: 0.2em\; text-decoration-skip-ink: auto\; overflow-wrap: break-word\;" target="_blank"><span style="color:rgb(45\, 41\, 38)">Become one today!</span></a><span style="color:rgb(45\, 41\, 38)">&nbsp\;</span></p>\n\n<p><span style="color:rgb(45\, 41\, 38)">This is a free event. Free parking in the parking lot at 117 E Canon Perdido St and also behind Panino at 834 Santa Barbara St.&nbsp\;</span></p>\n\n<p><span style="color:rgb(45\, 41\, 38)">&nbsp\;For more information call (805) 965-0093.&nbsp\;</span></p>\n\n<p style="text-align:center">&nbsp\;</p>\n\n<p style="text-align:center"><span style="color:rgb(181\, 87\, 38)"><em>This event is proudly&nbsp\;sponsored by Montecito Bank and Trust\, Sidney Stern Memorial Trust\, and the Santa Barbara Puerto Vallarta Sister City Committee.</em></span></p>\n
LOCATION:Starts at the Chapel at El Presidio de Santa B rbara State Historic Park to Casa de la Guerra\, where the Mujeres Makers Market will be having a special night market.
UID:e.3636.3245
SEQUENCE:3
DTSTAMP:20260421T191045Z
URL:https://business.sbscchamber.com/events/details/una-noche-de-las-posadas-3245
END:VEVENT

END:VCALENDAR
