BEGIN:VCALENDAR
VERSION:2.0
PRODID:-//ChamberMaster//Event Calendar 2.0//EN
METHOD:PUBLISH
X-PUBLISHED-TTL:P3D
REFRESH-INTERVAL:P3D
CALSCALE:GREGORIAN
BEGIN:VEVENT
DTSTART:20251111T170000Z
DTEND:20251111T230000Z
X-MICROSOFT-CDO-ALLDAYEVENT:FALSE
SUMMARY:Veteran's Day Skating Camp
DESCRIPTION:Spend your Veteran's Day on the ice! Improve your skills and make new friends at ice skating camp! No skating experience necessary. Professional Coaching Staff provided for 3-4 Hours of on ice time with arts and crafts. Families have an opportunity to skate with your camper\, 3:00pm-4:30pm. Whether your child is seeking to perfect their skating skills\, learn to skate or make new friends\, our coaches\, counselors and assistants are excited to help your campers achieve their personal goals! Interested in Hockey? We can get your child started on some basic hockey skills in hockey skates and some off-ice hockey activities! Safety remains our top priority. Our dedicated staff closely monitored all activities\, ensuring a safe and enjoyable environment for every camper!
X-ALT-DESC;FMTTYPE=text/html:Spend your Veteran&#39\;s Day on the ice! Improve your skills and make new friends at ice skating camp! No skating experience necessary. Professional Coaching Staff provided for 3-4 Hours of on ice time with arts and crafts. Families have an opportunity to skate with your camper\, 3:00pm-4:30pm. Whether your child is seeking to perfect their skating skills\, learn to skate or make new friends\, our coaches\, counselors and assistants are excited to help your campers achieve their personal goals! Interested in Hockey? We can get your child started on some basic hockey skills in hockey skates and some off-ice hockey activities! Safety remains our top priority. Our dedicated staff closely monitored all activities\, ensuring a safe and enjoyable environment for every camper!
LOCATION:Ice in Paradise 6985 Santa Felicia Dr. Goleta\, CA 93117
UID:e.3636.2335
SEQUENCE:3
DTSTAMP:20260421T162122Z
URL:https://business.sbscchamber.com/events/details/veteran-s-day-skating-camp-2335
END:VEVENT

END:VCALENDAR
