BEGIN:VCALENDAR
VERSION:2.0
PRODID:-//ChamberMaster//Event Calendar 2.0//EN
METHOD:PUBLISH
X-PUBLISHED-TTL:P3D
REFRESH-INTERVAL:P3D
CALSCALE:GREGORIAN
BEGIN:VEVENT
DTSTART:20250118T000000Z
DTEND:20250119T180000Z
X-MICROSOFT-CDO-ALLDAYEVENT:FALSE
SUMMARY:Wellness Weekender at Kimpton Canary
DESCRIPTION:For a wellness-focused start to the New Year\, rejuvenate and relax with the Kimpton Canary's 'Wellness Weekender' from January 17-19\, in partnership with Palma Colectiva and mindfulness and meditation instructor\, Terri Barnett. Ideal for all levels\, the Wellness Weekender will include yoga\, soothing sound healing sessions\, and guided mindfulness meditation on Friday\, January 17 at 4pm and Sunday\, January 19 at 9am. Join Palma Colectiva at The Canary on Saturday\, January 18 for the Wellness Faire from 12-4pm\, a market with mini-treatment offerings including massage\, astrology\, tarot and other esoteric readings\, acupuncture\, biocharger sessions\, energy rebalancing\, conscious retail and more. The Canary's 'Wellness Weekender' is a perfect opportunity for grounding and creating positive intention setting for the New Year - reserve a spot today!
X-ALT-DESC;FMTTYPE=text/html:For a wellness-focused start to the New Year\, rejuvenate and relax with the Kimpton Canary&rsquo\;s &lsquo\;Wellness Weekender&rsquo\; from January 17-19\, in partnership with Palma Colectiva and mindfulness and meditation instructor\, Terri Barnett. Ideal for all levels\, the Wellness Weekender will include yoga\, soothing sound healing sessions\, and guided mindfulness meditation on Friday\, January 17 at 4pm and Sunday\, January 19 at 9am. Join Palma Colectiva at The Canary on Saturday\, January 18 for the Wellness Faire from 12-4pm\, a market with mini-treatment offerings including massage\, astrology\, tarot and other esoteric readings\, acupuncture\, biocharger sessions\, energy rebalancing\, conscious retail and more. The Canary&rsquo\;s &lsquo\;Wellness Weekender&rsquo\; is a perfect opportunity for grounding and creating positive intention setting for the New Year - reserve a spot today!
LOCATION:Kimpton Canary 31 W Carrillo Street 93103\, Santa Barbara\, CA
UID:e.3636.2196
SEQUENCE:3
DTSTAMP:20260421T101059Z
URL:https://business.sbscchamber.com/events/details/wellness-weekender-at-kimpton-canary-2196
END:VEVENT

END:VCALENDAR
